BEGIN:VCALENDAR
VERSION:2.0
PRODID:spatie/icalendar-generator
NAME:Eventkalender Fährtenweekend 2-22
X-WR-CALNAME:Eventkalender Fährtenweekend 2-22
BEGIN:VTIMEZONE
TZID:Europe/Zurich
BEGIN:STANDARD
DTSTART:20211031T030000
TZOFFSETFROM:+0200
TZOFFSETTO:+0100
END:STANDARD
BEGIN:DAYLIGHT
DTSTART:20220327T010000
TZOFFSETFROM:+0100
TZOFFSETTO:+0200
END:DAYLIGHT
BEGIN:STANDARD
DTSTART:20221030T030000
TZOFFSETFROM:+0200
TZOFFSETTO:+0100
END:STANDARD
END:VTIMEZONE
BEGIN:VTIMEZONE
TZID:UTC
BEGIN:STANDARD
DTSTART:20250725T061459
TZOFFSETFROM:+0000
TZOFFSETTO:+0000
END:STANDARD
END:VTIMEZONE
BEGIN:VEVENT
UID:ce5140df15d046a66883807d18d0264b
DTSTAMP:20260421T061459Z
DTSTART;TZID=Europe/Zurich:20220617T000100
DTEND;TZID=Europe/Zurich:20220619T235900
SUMMARY:Fährtenweekend 2-22
DESCRIPTION:Die Leiterinnen und Leiter der Pfadi Säuliamt begeben sich ins
  Pfadiheim Schwandenhölzli\, um das nächste Quartal zu planen\, sich wei
 terzubilden sowie Berichte für die neuste Ausgabe der Fährte zu verfas
 sen. \nWeitere Infos kannst du bei deinem Stafü und/oder AL abholen.\nAn
  diesem Samstag finden bei den Buebe keine Aktivitäten statt.
STATUS:CONFIRMED
URL:https://pfadi-sa.ch/event/1023
IMAGE;VALUE=URI;FMTTYPE=image/png;DISPLAY=BADGE:https://pfadi-sa.ch/build/a
 ssets/logo-Nx7_9A4W.png
ATTENDEE;CN=Buebepfadi;PARTSTAT=ACCEPTED:MAILTO:Buebepfadi@pfadi-sa.ch
ATTENDEE;CN=Meitlipfadi;PARTSTAT=ACCEPTED:MAILTO:Meitlipfadi@pfadi-sa.ch
END:VEVENT
END:VCALENDAR