BEGIN:VCALENDAR
VERSION:2.0
PRODID:spatie/icalendar-generator
NAME:Eventkalender Schnabelburgbummel
X-WR-CALNAME:Eventkalender Schnabelburgbummel
BEGIN:VTIMEZONE
TZID:Europe/Zurich
BEGIN:STANDARD
DTSTART:20211031T030000
TZOFFSETFROM:+0200
TZOFFSETTO:+0100
END:STANDARD
BEGIN:DAYLIGHT
DTSTART:20220327T010000
TZOFFSETFROM:+0100
TZOFFSETTO:+0200
END:DAYLIGHT
BEGIN:STANDARD
DTSTART:20221030T030000
TZOFFSETFROM:+0200
TZOFFSETTO:+0100
END:STANDARD
END:VTIMEZONE
BEGIN:VTIMEZONE
TZID:UTC
BEGIN:STANDARD
DTSTART:20250725T083733
TZOFFSETFROM:+0000
TZOFFSETTO:+0000
END:STANDARD
END:VTIMEZONE
BEGIN:VEVENT
UID:1579779b98ce9edb98dd85606f2c119d
DTSTAMP:20260421T083733Z
DTSTART;TZID=Europe/Zurich:20220611T104500
DTEND;TZID=Europe/Zurich:20220611T150000
SUMMARY:Schnabelburgbummel
DESCRIPTION:Für den Schnabelburbummel sind neben allen Wölfen der Buebepf
 adi auch deren Eltern und Geschwister eingeladen. \nWir laufen vom Albisp
 ass auf die Schnabelburg\, wo wir gemeinsam grillieren werden. Der Abschlu
 ss findet beim Hochwachtturm mit verschiedenen Pfadispielen statt.Weitere 
 Infos sind mit dem Abteilungsversand und per Elternchats kommuniziert word
 en.\nTeilnahme nur mit Anmeldung möglich!
STATUS:CONFIRMED
URL:https://pfadi-sa.ch/event/1046
IMAGE;VALUE=URI;FMTTYPE=image/png;DISPLAY=BADGE:https://pfadi-sa.ch/build/a
 ssets/logo-Nx7_9A4W.png
END:VEVENT
END:VCALENDAR