BEGIN:VCALENDAR
VERSION:2.0
PRODID:spatie/icalendar-generator
NAME:Eventkalender Korpstag Buebe
X-WR-CALNAME:Eventkalender Korpstag Buebe
BEGIN:VTIMEZONE
TZID:Europe/Zurich
BEGIN:DAYLIGHT
DTSTART:20230326T010000
TZOFFSETFROM:+0100
TZOFFSETTO:+0200
END:DAYLIGHT
BEGIN:STANDARD
DTSTART:20231029T030000
TZOFFSETFROM:+0200
TZOFFSETTO:+0100
END:STANDARD
BEGIN:DAYLIGHT
DTSTART:20240331T010000
TZOFFSETFROM:+0100
TZOFFSETTO:+0200
END:DAYLIGHT
END:VTIMEZONE
BEGIN:VTIMEZONE
TZID:UTC
BEGIN:STANDARD
DTSTART:20250725T045118
TZOFFSETFROM:+0000
TZOFFSETTO:+0000
END:STANDARD
END:VTIMEZONE
BEGIN:VEVENT
UID:2cbca44843a864533ec05b321ae1f9d1
DTSTAMP:20260421T045118Z
DTSTART;TZID=Europe/Zurich:20230930T100000
DTEND;TZID=Europe/Zurich:20230930T170000
SUMMARY:Korpstag Buebe
DESCRIPTION:Am Korpstag treffen wir uns mit den sechs anderen Abteilungen 
 des Korps und bestreiten einen Wettkampf.\nIn dieser Ausgabe werden wir de
 n Heimvorteil geniessen.\nTreffpunkt: Pfadiheim Schwandenhölzli\nZeit: 10
 :00 Uhr - 17:00 UhrFür den Zmittag müssen alle einen Lunch mitnehmen.\n
 Wir werden nach dem Korpstag unsere Jubiläumsshirts verkaufen. Die T-Shir
 ts sind bereits jetzt erhältlich im MaBü. Wenn man das T-Shirt für den
  Korpstag anziehen möchte\, gibt es also hierzu am Montag 25.9.2023 die 
 Möglichkeit.
STATUS:CONFIRMED
URL:https://pfadi-sa.ch/event/1110
IMAGE;VALUE=URI;FMTTYPE=image/png;DISPLAY=BADGE:https://pfadi-sa.ch/build/a
 ssets/logo-Nx7_9A4W.png
ATTENDEE;CN=Buebepfadi;PARTSTAT=ACCEPTED:MAILTO:Buebepfadi@pfadi-sa.ch
ATTENDEE;CN=Stamm Süddakota;PARTSTAT=ACCEPTED:MAILTO:Stamm Süddakota@pfad
 i-sa.ch
ATTENDEE;CN=Stamm Norddakota;PARTSTAT=ACCEPTED:MAILTO:Stamm Norddakota@pfad
 i-sa.ch
ATTENDEE;CN=Piostufe Buebe;PARTSTAT=ACCEPTED:MAILTO:Piostufe Buebe@pfadi-sa
 .ch
ATTENDEE;CN=Roverstufe;PARTSTAT=ACCEPTED:MAILTO:Roverstufe@pfadi-sa.ch
ATTENDEE;CN=Fähnli Anakonda;PARTSTAT=ACCEPTED:MAILTO:Fähnli Anakonda@pfad
 i-sa.ch
ATTENDEE;CN=Fähnli Geier;PARTSTAT=ACCEPTED:MAILTO:Fähnli Geier@pfadi-sa.c
 h
ATTENDEE;CN=Fähnli Panther;PARTSTAT=ACCEPTED:MAILTO:Fähnli Panther@pfadi-
 sa.ch
ATTENDEE;CN=Meute Sioni;PARTSTAT=ACCEPTED:MAILTO:Meute Sioni@pfadi-sa.ch
ATTENDEE;CN=Meute Phao;PARTSTAT=ACCEPTED:MAILTO:Meute Phao@pfadi-sa.ch
ATTENDEE;CN=Fähnli Adler;PARTSTAT=ACCEPTED:MAILTO:Fähnli Adler@pfadi-sa.c
 h
ATTENDEE;CN=Fähnli Bussard;PARTSTAT=ACCEPTED:MAILTO:Fähnli Bussard@pfadi-
 sa.ch
ATTENDEE;CN=Fähnli Büffel;PARTSTAT=ACCEPTED:MAILTO:Fähnli Büffel@pfadi-
 sa.ch
ATTENDEE;CN=Meute Chuchundra;PARTSTAT=ACCEPTED:MAILTO:Meute Chuchundra@pfad
 i-sa.ch
ATTENDEE;CN=Meute Akela;PARTSTAT=ACCEPTED:MAILTO:Meute Akela@pfadi-sa.ch
ATTENDEE;CN=Dienstpflichtige;PARTSTAT=ACCEPTED:MAILTO:Dienstpflichtige@pfad
 i-sa.ch
ATTENDEE;CN=Meute Toomai;PARTSTAT=ACCEPTED:MAILTO:Meute Toomai@pfadi-sa.ch
END:VEVENT
END:VCALENDAR