BEGIN:VCALENDAR
VERSION:2.0
PRODID:spatie/icalendar-generator
NAME:Eventkalender 80 Jahr Jubiläum Buebepfadi: Grosse Feier
X-WR-CALNAME:Eventkalender 80 Jahr Jubiläum Buebepfadi: Grosse Feier
BEGIN:VTIMEZONE
TZID:Europe/Zurich
BEGIN:DAYLIGHT
DTSTART:20230326T010000
TZOFFSETFROM:+0100
TZOFFSETTO:+0200
END:DAYLIGHT
BEGIN:STANDARD
DTSTART:20231029T030000
TZOFFSETFROM:+0200
TZOFFSETTO:+0100
END:STANDARD
END:VTIMEZONE
BEGIN:VTIMEZONE
TZID:UTC
BEGIN:STANDARD
DTSTART:20250725T044744
TZOFFSETFROM:+0000
TZOFFSETTO:+0000
END:STANDARD
END:VTIMEZONE
BEGIN:VEVENT
UID:b59c67bf196a4758191e42f76670ceba
DTSTAMP:20260421T044744Z
DTSTART;TZID=Europe/Zurich:20230916T100000
DTEND;TZID=Europe/Zurich:20230916T235900
SUMMARY:80 Jahr Jubiläum Buebepfadi: Grosse Feier
DESCRIPTION:An diesem Tag feiern wir unser Jubiläum. Der offizielle Festfl
 yer findest du hier. Das Detailprogramm mit allen Programmpunkten kannst 
 du hier entnehmen.FAQ JubiläumsfestKann ich mit dem Auto anreisen?\nJa\, 
 es gibt aber rund um das Pfadiheim KEINE Parkplätze (auch nicht beim Stri
 ckhof). Das Parkieren entlang der der Anfahrtsstrassen ist untersagt. Ein
 - und Ausladen von Personen ist vor dem Pfadiheim möglich. Die Zufahrt is
 t aufgrund des Personenaufkommens erschwert und nicht empfohlen. Bitte wei
 che auf den Parkplatz beim Schützenhaus Zwillikon oder auf andere in der 
 Stadt Afffoltern aus. \nVeloparkplätze sind genügend vorhanden. Wir emp
 fehlen dringend mit ÖV\, Velo oder zu Fuss anzureisen.Kann ich Billette a
 uch noch vor Ort kaufen?Ja\, es gibt eine Tageskasse. Für die Organisator
 en wird die Arbeit erleichtert\, wenn die Billette vorher bezogen werden. 
 Dies ist in den Volg-Filialen Mettmenstetten\, Hedingen und Hausen a.A. m
 öglich. Oder du besuchst das Materialbüro. Besuchende\, die nach 20.00 
 Uhr aufs Festgelände möchten\, bezahlen einen leicht angepassten Abendta
 rif.Was sind die angebotenen Aktivitäten für Kinder und Jugendliche?sieh
 e DetailprogrammWerden die Kinder und Jugendlichen von Pfadi-Leitenden bet
 reut?Nein\, der Besuch des Festgeländes wird auf eigene Verantwortung bzw
 . die der Elternteile getätigt. Versicherung ist Sache der Besuchenden. 
 Der Anlass hat ein eigenes Sicherheitskonzept. Während des Festbetriebs s
 teht ein betreuter Sanitäts-Posten zur Verfügung.Was bietet die Festwirt
 schaft an?Im Angebot sind diverse Getränke mit oder ohne Alkohol. Zudem w
 erden Süssgebäcke\, Snacks sowie warme Gerichte angeboten. Die Speisen u
 nd Getränke werden zu fairen Preisen angeboten. Bezahlt werden kann mit T
 wint\, üblichen Karten oder mit Bargeld.
STATUS:CONFIRMED
URL:https://pfadi-sa.ch/event/1111
IMAGE;VALUE=URI;FMTTYPE=image/png;DISPLAY=BADGE:https://pfadi-sa.ch/build/a
 ssets/logo-Nx7_9A4W.png
ATTENDEE;CN=Buebepfadi;PARTSTAT=ACCEPTED:MAILTO:Buebepfadi@pfadi-sa.ch
ATTENDEE;CN=Meitlipfadi;PARTSTAT=ACCEPTED:MAILTO:Meitlipfadi@pfadi-sa.ch
ATTENDEE;CN=Stamm Süddakota;PARTSTAT=ACCEPTED:MAILTO:Stamm Süddakota@pfad
 i-sa.ch
ATTENDEE;CN=Stamm Norddakota;PARTSTAT=ACCEPTED:MAILTO:Stamm Norddakota@pfad
 i-sa.ch
ATTENDEE;CN=Piostufe Buebe;PARTSTAT=ACCEPTED:MAILTO:Piostufe Buebe@pfadi-sa
 .ch
ATTENDEE;CN=Roverstufe;PARTSTAT=ACCEPTED:MAILTO:Roverstufe@pfadi-sa.ch
ATTENDEE;CN=Fähnli Anakonda;PARTSTAT=ACCEPTED:MAILTO:Fähnli Anakonda@pfad
 i-sa.ch
ATTENDEE;CN=Fähnli Geier;PARTSTAT=ACCEPTED:MAILTO:Fähnli Geier@pfadi-sa.c
 h
ATTENDEE;CN=Fähnli Panther;PARTSTAT=ACCEPTED:MAILTO:Fähnli Panther@pfadi-
 sa.ch
ATTENDEE;CN=Meute Sioni;PARTSTAT=ACCEPTED:MAILTO:Meute Sioni@pfadi-sa.ch
ATTENDEE;CN=Meute Phao;PARTSTAT=ACCEPTED:MAILTO:Meute Phao@pfadi-sa.ch
ATTENDEE;CN=Fähnli Adler;PARTSTAT=ACCEPTED:MAILTO:Fähnli Adler@pfadi-sa.c
 h
ATTENDEE;CN=Fähnli Bussard;PARTSTAT=ACCEPTED:MAILTO:Fähnli Bussard@pfadi-
 sa.ch
ATTENDEE;CN=Fähnli Büffel;PARTSTAT=ACCEPTED:MAILTO:Fähnli Büffel@pfadi-
 sa.ch
ATTENDEE;CN=Meute Chuchundra;PARTSTAT=ACCEPTED:MAILTO:Meute Chuchundra@pfad
 i-sa.ch
ATTENDEE;CN=Meute Akela;PARTSTAT=ACCEPTED:MAILTO:Meute Akela@pfadi-sa.ch
ATTENDEE;CN=Stamm Turricum;PARTSTAT=ACCEPTED:MAILTO:Stamm Turricum@pfadi-sa
 .ch
ATTENDEE;CN=Stamm Vindonissa;PARTSTAT=ACCEPTED:MAILTO:Stamm Vindonissa@pfad
 i-sa.ch
ATTENDEE;CN=Wolfsstufe Meitli;PARTSTAT=ACCEPTED:MAILTO:Wolfsstufe Meitli@pf
 adi-sa.ch
ATTENDEE;CN=Piostufe Meitli;PARTSTAT=ACCEPTED:MAILTO:Piostufe Meitli@pfadi-
 sa.ch
ATTENDEE;CN=Roverstufe;PARTSTAT=ACCEPTED:MAILTO:Roverstufe@pfadi-sa.ch
ATTENDEE;CN=Mettowing;PARTSTAT=ACCEPTED:MAILTO:Mettowing@pfadi-sa.ch
ATTENDEE;CN=Obfilda;PARTSTAT=ACCEPTED:MAILTO:Obfilda@pfadi-sa.ch
ATTENDEE;CN=Chnonowa;PARTSTAT=ACCEPTED:MAILTO:Chnonowa@pfadi-sa.ch
ATTENDEE;CN=Hadung;PARTSTAT=ACCEPTED:MAILTO:Hadung@pfadi-sa.ch
ATTENDEE;CN=Masowanda;PARTSTAT=ACCEPTED:MAILTO:Masowanda@pfadi-sa.ch
ATTENDEE;CN=Tala;PARTSTAT=ACCEPTED:MAILTO:Tala@pfadi-sa.ch
ATTENDEE;CN=Shial;PARTSTAT=ACCEPTED:MAILTO:Shial@pfadi-sa.ch
ATTENDEE;CN=Weowa;PARTSTAT=ACCEPTED:MAILTO:Weowa@pfadi-sa.ch
ATTENDEE;CN=Waya;PARTSTAT=ACCEPTED:MAILTO:Waya@pfadi-sa.ch
ATTENDEE;CN=Talitha;PARTSTAT=ACCEPTED:MAILTO:Talitha@pfadi-sa.ch
ATTENDEE;CN=Lukida;PARTSTAT=ACCEPTED:MAILTO:Lukida@pfadi-sa.ch
ATTENDEE;CN=Dienstpflichtige;PARTSTAT=ACCEPTED:MAILTO:Dienstpflichtige@pfad
 i-sa.ch
ATTENDEE;CN=Meute Toomai;PARTSTAT=ACCEPTED:MAILTO:Meute Toomai@pfadi-sa.ch
END:VEVENT
END:VCALENDAR