BEGIN:VCALENDAR
VERSION:2.0
PRODID:spatie/icalendar-generator
NAME:Eventkalender Gruppenweekend Weowa
X-WR-CALNAME:Eventkalender Gruppenweekend Weowa
BEGIN:VTIMEZONE
TZID:Europe/Zurich
BEGIN:STANDARD
DTSTART:20241027T030000
TZOFFSETFROM:+0200
TZOFFSETTO:+0100
END:STANDARD
BEGIN:DAYLIGHT
DTSTART:20250330T010000
TZOFFSETFROM:+0100
TZOFFSETTO:+0200
END:DAYLIGHT
END:VTIMEZONE
BEGIN:VTIMEZONE
TZID:UTC
BEGIN:STANDARD
DTSTART:20250724T194109
TZOFFSETFROM:+0000
TZOFFSETTO:+0000
END:STANDARD
END:VTIMEZONE
BEGIN:VEVENT
UID:5e1b18c4c6a6d31695acbae3fd70ecc6
DTSTAMP:20260420T194109Z
DTSTART;TZID=Europe/Zurich:20250411T180000
DTEND;TZID=Europe/Zurich:20250412T150000
SUMMARY:Gruppenweekend Weowa
DESCRIPTION:Die Gruppe Weowa trifft sich für ein ganzes Wochenende\, um Ze
 it miteinander zu verbringen . 
STATUS:CONFIRMED
URL:https://pfadi-sa.ch/event/1342
IMAGE;VALUE=URI;FMTTYPE=image/png;DISPLAY=BADGE:https://pfadi-sa.ch/build/a
 ssets/logo-Nx7_9A4W.png
ATTENDEE;CN=Weowa;PARTSTAT=ACCEPTED:MAILTO:Weowa@pfadi-sa.ch
END:VEVENT
END:VCALENDAR