BEGIN:VCALENDAR
VERSION:2.0
PRODID:spatie/icalendar-generator
NAME:Eventkalender Monatsübersicht Februar 2022
X-WR-CALNAME:Eventkalender Monatsübersicht Februar 2022
BEGIN:VTIMEZONE
TZID:Europe/Zurich
BEGIN:STANDARD
DTSTART:20211031T030000
TZOFFSETFROM:+0200
TZOFFSETTO:+0100
END:STANDARD
BEGIN:DAYLIGHT
DTSTART:20220327T010000
TZOFFSETFROM:+0100
TZOFFSETTO:+0200
END:DAYLIGHT
END:VTIMEZONE
BEGIN:VTIMEZONE
TZID:UTC
BEGIN:STANDARD
DTSTART:20250725T061949
TZOFFSETFROM:+0000
TZOFFSETTO:+0000
END:STANDARD
END:VTIMEZONE
BEGIN:VEVENT
UID:1e48c4420b7073bc11916c6c1de226bb
DTSTAMP:20260421T061949Z
DTSTART;TZID=Europe/Zurich:20220222T000100
DTEND;TZID=Europe/Zurich:20220222T235900
SUMMARY:Thinking Day
DESCRIPTION:Am 22. Februar findet weltweit der Thinking-Day statt. An diese
 m Tag gedenken wir der Gründerin und dem Gründer der weltweiten Pfadibew
 egung. Robert und Olave Baden Powell haben an diesem Tag Geburtstag.
STATUS:CONFIRMED
URL:https://pfadi-sa.ch/event/1010
IMAGE;VALUE=URI;FMTTYPE=image/png;DISPLAY=BADGE:https://pfadi-sa.ch/build/a
 ssets/logo-Nx7_9A4W.png
ATTENDEE;CN=Buebepfadi;PARTSTAT=ACCEPTED:MAILTO:Buebepfadi@pfadi-sa.ch
ATTENDEE;CN=Meitlipfadi;PARTSTAT=ACCEPTED:MAILTO:Meitlipfadi@pfadi-sa.ch
ATTENDEE;CN=keine spezifische Gruppe;PARTSTAT=ACCEPTED:MAILTO:keine spezifi
 sche Gruppe@pfadi-sa.ch
END:VEVENT
END:VCALENDAR