BEGIN:VCALENDAR
VERSION:2.0
PRODID:spatie/icalendar-generator
NAME:Eventkalender Monatsübersicht März 2022
X-WR-CALNAME:Eventkalender Monatsübersicht März 2022
BEGIN:VTIMEZONE
TZID:Europe/Zurich
BEGIN:STANDARD
DTSTART:20211031T030000
TZOFFSETFROM:+0200
TZOFFSETTO:+0100
END:STANDARD
BEGIN:DAYLIGHT
DTSTART:20220327T010000
TZOFFSETFROM:+0100
TZOFFSETTO:+0200
END:DAYLIGHT
END:VTIMEZONE
BEGIN:VTIMEZONE
TZID:UTC
BEGIN:STANDARD
DTSTART:20250725T061939
TZOFFSETFROM:+0000
TZOFFSETTO:+0000
END:STANDARD
END:VTIMEZONE
BEGIN:VEVENT
UID:27ed0fb950b856b06e1273989422e7d3
DTSTAMP:20260421T061939Z
DTSTART;TZID=Europe/Zurich:20220312T130000
DTEND;TZID=Europe/Zurich:20220312T200000
SUMMARY:BiPi-Lauf 2022
STATUS:CONFIRMED
URL:https://pfadi-sa.ch/event/1039
IMAGE;VALUE=URI;FMTTYPE=image/png;DISPLAY=BADGE:https://pfadi-sa.ch/build/a
 ssets/logo-Nx7_9A4W.png
ATTENDEE;CN=Stamm Süddakota;PARTSTAT=ACCEPTED:MAILTO:Stamm Süddakota@pfad
 i-sa.ch
ATTENDEE;CN=Stamm Norddakota;PARTSTAT=ACCEPTED:MAILTO:Stamm Norddakota@pfad
 i-sa.ch
ATTENDEE;CN=Fähnli Anakonda;PARTSTAT=ACCEPTED:MAILTO:Fähnli Anakonda@pfad
 i-sa.ch
ATTENDEE;CN=Fähnli Geier;PARTSTAT=ACCEPTED:MAILTO:Fähnli Geier@pfadi-sa.c
 h
ATTENDEE;CN=Fähnli Panther;PARTSTAT=ACCEPTED:MAILTO:Fähnli Panther@pfadi-
 sa.ch
ATTENDEE;CN=Meute Sioni;PARTSTAT=ACCEPTED:MAILTO:Meute Sioni@pfadi-sa.ch
ATTENDEE;CN=Meute Phao;PARTSTAT=ACCEPTED:MAILTO:Meute Phao@pfadi-sa.ch
ATTENDEE;CN=Fähnli Adler;PARTSTAT=ACCEPTED:MAILTO:Fähnli Adler@pfadi-sa.c
 h
ATTENDEE;CN=Fähnli Bussard;PARTSTAT=ACCEPTED:MAILTO:Fähnli Bussard@pfadi-
 sa.ch
ATTENDEE;CN=Fähnli Büffel;PARTSTAT=ACCEPTED:MAILTO:Fähnli Büffel@pfadi-
 sa.ch
ATTENDEE;CN=Meute Chuchundra;PARTSTAT=ACCEPTED:MAILTO:Meute Chuchundra@pfad
 i-sa.ch
ATTENDEE;CN=Meute Akela;PARTSTAT=ACCEPTED:MAILTO:Meute Akela@pfadi-sa.ch
END:VEVENT
BEGIN:VEVENT
UID:93d65641ff3f1586614cf2c1ad240b6c
DTSTAMP:20260421T061939Z
DTSTART;TZID=Europe/Zurich:20220318T000100
DTEND;TZID=Europe/Zurich:20220320T235900
SUMMARY:Fährtenweekend 1-22
DESCRIPTION:Die Leiterinnen und Leiter der Pfadi Säuliamt begeben sich ins
  Pfadiheim Schwandenhölzli\, um das nächste Quartal zu planen\, sich wei
 terzubilden sowie Berichte für die neuste Ausgabe der Fährte zu verfas
 sen. \nWeitere Infos kannst du bei deinem Stafü und/oder AL abholen.\nAn
  diesem Samstag finden bei den Buebe keine Aktivitäten statt. Ausnahme: A
 kela\, Anakonda\, Biber - diese Gruppen sind am Pfaditag vertreten.
STATUS:CONFIRMED
URL:https://pfadi-sa.ch/event/1022
IMAGE;VALUE=URI;FMTTYPE=image/png;DISPLAY=BADGE:https://pfadi-sa.ch/build/a
 ssets/logo-Nx7_9A4W.png
ATTENDEE;CN=Buebepfadi;PARTSTAT=ACCEPTED:MAILTO:Buebepfadi@pfadi-sa.ch
ATTENDEE;CN=Meitlipfadi;PARTSTAT=ACCEPTED:MAILTO:Meitlipfadi@pfadi-sa.ch
END:VEVENT
BEGIN:VEVENT
UID:6b180037abbebea991d8b1232f8a8ca9
DTSTAMP:20260421T061939Z
DTSTART;TZID=Europe/Zurich:20220319T140000
DTEND;TZID=Europe/Zurich:20220319T163000
SUMMARY:Nationaler Pfaditag 2022
DESCRIPTION:Bist du zwischen 5 und 14 Jahre alt und möchtest einmal Pfadil
 uft schnuppern? Dann komm zu uns an den Pfaditag! Gemeinsam mit anderen Ki
 ndern aus dem Säuliamt erlebst du dann einen spannenden Nachmittag. Wir 
 freuen uns auf dich!\n\nWann und Wo:\nAm 19.3.2022\nVon: 14:00 - 16:30 \
 n\nbeim Vitaparcours Affoltern am Albis\n\nMitnehmen:\nWettergerechte Kle
 idung\, gute Schuhe\, etwas zu trinken und einen kleinen Zvieri. \nKontak
 t:\ninfo@pfadi-sa.ch
STATUS:CONFIRMED
URL:https://pfadi-sa.ch/event/1013
IMAGE;VALUE=URI;FMTTYPE=image/png;DISPLAY=BADGE:https://pfadi-sa.ch/build/a
 ssets/logo-Nx7_9A4W.png
ATTENDEE;CN=Buebepfadi;PARTSTAT=ACCEPTED:MAILTO:Buebepfadi@pfadi-sa.ch
ATTENDEE;CN=Meitlipfadi;PARTSTAT=ACCEPTED:MAILTO:Meitlipfadi@pfadi-sa.ch
ATTENDEE;CN=Biberstufe;PARTSTAT=ACCEPTED:MAILTO:Biberstufe@pfadi-sa.ch
ATTENDEE;CN=Fähnli Anakonda;PARTSTAT=ACCEPTED:MAILTO:Fähnli Anakonda@pfad
 i-sa.ch
ATTENDEE;CN=Meute Akela;PARTSTAT=ACCEPTED:MAILTO:Meute Akela@pfadi-sa.ch
END:VEVENT
BEGIN:VEVENT
UID:e17184bcb70dcf3942c54e0b537ffc6d
DTSTAMP:20260421T061939Z
DTSTART;TZID=Europe/Zurich:20220326T133000
DTEND;TZID=Europe/Zurich:20220326T160000
SUMMARY:Überechrüchete
DESCRIPTION:Überechrüchete\, siehe QP
STATUS:CONFIRMED
URL:https://pfadi-sa.ch/event/1033
IMAGE;VALUE=URI;FMTTYPE=image/png;DISPLAY=BADGE:https://pfadi-sa.ch/build/a
 ssets/logo-Nx7_9A4W.png
ATTENDEE;CN=Biberstufe;PARTSTAT=ACCEPTED:MAILTO:Biberstufe@pfadi-sa.ch
ATTENDEE;CN=Mauna;PARTSTAT=ACCEPTED:MAILTO:Mauna@pfadi-sa.ch
ATTENDEE;CN=Sori;PARTSTAT=ACCEPTED:MAILTO:Sori@pfadi-sa.ch
END:VEVENT
END:VCALENDAR