BEGIN:VCALENDAR
VERSION:2.0
PRODID:spatie/icalendar-generator
NAME:Eventkalender Monatsübersicht Mai 2022
X-WR-CALNAME:Eventkalender Monatsübersicht Mai 2022
BEGIN:VTIMEZONE
TZID:Europe/Zurich
BEGIN:STANDARD
DTSTART:20211031T030000
TZOFFSETFROM:+0200
TZOFFSETTO:+0100
END:STANDARD
BEGIN:DAYLIGHT
DTSTART:20220327T010000
TZOFFSETFROM:+0100
TZOFFSETTO:+0200
END:DAYLIGHT
BEGIN:STANDARD
DTSTART:20221030T030000
TZOFFSETFROM:+0200
TZOFFSETTO:+0100
END:STANDARD
END:VTIMEZONE
BEGIN:VTIMEZONE
TZID:UTC
BEGIN:STANDARD
DTSTART:20250725T062112
TZOFFSETFROM:+0000
TZOFFSETTO:+0000
END:STANDARD
END:VTIMEZONE
BEGIN:VEVENT
UID:9ac403da7947a183884c18a67d3aa8de
DTSTAMP:20260421T062112Z
DTSTART;TZID=Europe/Zurich:20220513T190000
DTEND;TZID=Europe/Zurich:20220515T140000
SUMMARY:OP-Nachweekend
DESCRIPTION:Gemeinsam werden alle Pfadis\, die im vergangenen Jahr das OP-L
 ager besucht haben\, noch einmal die Möglichkeit haben\, sich intensiv au
 szutauschen. Diejenigen Pfadis\, die das OP-Abzeichen nicht schon im OP-La
 ger selbst ergattern konnten\, kriegen eine zweite Chance im OP-Nachweeken
 d. Doch auch der Spassfaktor wird nicht zu kurz kommen! Falls du Fragen ha
 ben solltest\, melde dich bei Solex
STATUS:CONFIRMED
URL:https://pfadi-sa.ch/event/1042
IMAGE;VALUE=URI;FMTTYPE=image/png;DISPLAY=BADGE:https://pfadi-sa.ch/build/a
 ssets/logo-Nx7_9A4W.png
END:VEVENT
BEGIN:VEVENT
UID:d736bb10d83a904aefc1d6ce93dc54b8
DTSTAMP:20260421T062112Z
DTSTART;TZID=Europe/Zurich:20220526T090000
DTEND;TZID=Europe/Zurich:20220529T160000
SUMMARY:Ufla Stamm Norddakota
DESCRIPTION:Nächstes Jahr findet ein Ufla statt. Reserviere dir bereits je
 tzt dieses Datum in deiner Agenda.\nFür die Wölfe beginnt das Lager erst
  am Freitagmorgen. \nDie Anmeldung und weitere Informationen zu diesem La
 ger folgen noch.\n \n\nBei Fragen meldet euch doch bei: Alagos
STATUS:CONFIRMED
URL:https://pfadi-sa.ch/event/1041
IMAGE;VALUE=URI;FMTTYPE=image/png;DISPLAY=BADGE:https://pfadi-sa.ch/build/a
 ssets/logo-Nx7_9A4W.png
ATTENDEE;CN=Fähnli Adler;PARTSTAT=ACCEPTED:MAILTO:Fähnli Adler@pfadi-sa.c
 h
ATTENDEE;CN=Fähnli Bussard;PARTSTAT=ACCEPTED:MAILTO:Fähnli Bussard@pfadi-
 sa.ch
ATTENDEE;CN=Fähnli Büffel;PARTSTAT=ACCEPTED:MAILTO:Fähnli Büffel@pfadi-
 sa.ch
ATTENDEE;CN=Meute Chuchundra;PARTSTAT=ACCEPTED:MAILTO:Meute Chuchundra@pfad
 i-sa.ch
ATTENDEE;CN=Meute Akela;PARTSTAT=ACCEPTED:MAILTO:Meute Akela@pfadi-sa.ch
END:VEVENT
BEGIN:VEVENT
UID:766d856ef1a6b02f93d894415e6bfa0e
DTSTAMP:20260421T062112Z
DTSTART;TZID=Europe/Zurich:20220526T090000
DTEND;TZID=Europe/Zurich:20220529T160000
SUMMARY:Ufla Süd
DESCRIPTION:Ufla Süd 22 Infos und genaue Zeiten folgen
STATUS:CONFIRMED
URL:https://pfadi-sa.ch/event/1014
IMAGE;VALUE=URI;FMTTYPE=image/png;DISPLAY=BADGE:https://pfadi-sa.ch/build/a
 ssets/logo-Nx7_9A4W.png
ATTENDEE;CN=Stamm Süddakota;PARTSTAT=ACCEPTED:MAILTO:Stamm Süddakota@pfad
 i-sa.ch
ATTENDEE;CN=Fähnli Anakonda;PARTSTAT=ACCEPTED:MAILTO:Fähnli Anakonda@pfad
 i-sa.ch
ATTENDEE;CN=Fähnli Geier;PARTSTAT=ACCEPTED:MAILTO:Fähnli Geier@pfadi-sa.c
 h
ATTENDEE;CN=Fähnli Panther;PARTSTAT=ACCEPTED:MAILTO:Fähnli Panther@pfadi-
 sa.ch
ATTENDEE;CN=Meute Sioni;PARTSTAT=ACCEPTED:MAILTO:Meute Sioni@pfadi-sa.ch
ATTENDEE;CN=Meute Phao;PARTSTAT=ACCEPTED:MAILTO:Meute Phao@pfadi-sa.ch
END:VEVENT
END:VCALENDAR