BEGIN:VCALENDAR
VERSION:2.0
PRODID:spatie/icalendar-generator
NAME:Eventkalender Monatsübersicht September 2022
X-WR-CALNAME:Eventkalender Monatsübersicht September 2022
BEGIN:VTIMEZONE
TZID:Europe/Zurich
BEGIN:DAYLIGHT
DTSTART:20220327T010000
TZOFFSETFROM:+0100
TZOFFSETTO:+0200
END:DAYLIGHT
BEGIN:STANDARD
DTSTART:20221030T030000
TZOFFSETFROM:+0200
TZOFFSETTO:+0100
END:STANDARD
BEGIN:DAYLIGHT
DTSTART:20230326T010000
TZOFFSETFROM:+0100
TZOFFSETTO:+0200
END:DAYLIGHT
END:VTIMEZONE
BEGIN:VTIMEZONE
TZID:UTC
BEGIN:STANDARD
DTSTART:20250725T061954
TZOFFSETFROM:+0000
TZOFFSETTO:+0000
END:STANDARD
END:VTIMEZONE
BEGIN:VEVENT
UID:ef50c335cca9f340bde656363ebd02fd
DTSTAMP:20260421T061954Z
DTSTART;TZID=Europe/Zurich:20220901T000100
DTEND;TZID=Europe/Zurich:20220904T235900
SUMMARY:Stadtfäscht Affoltern am Albis
DESCRIPTION:In dieser Woche sind auch wir mit der Pfadi anwesend.
STATUS:CONFIRMED
URL:https://pfadi-sa.ch/event/1018
IMAGE;VALUE=URI;FMTTYPE=image/png;DISPLAY=BADGE:https://pfadi-sa.ch/build/a
 ssets/logo-Nx7_9A4W.png
ATTENDEE;CN=Buebepfadi;PARTSTAT=ACCEPTED:MAILTO:Buebepfadi@pfadi-sa.ch
ATTENDEE;CN=Meitlipfadi;PARTSTAT=ACCEPTED:MAILTO:Meitlipfadi@pfadi-sa.ch
ATTENDEE;CN=keine spezifische Gruppe;PARTSTAT=ACCEPTED:MAILTO:keine spezifi
 sche Gruppe@pfadi-sa.ch
END:VEVENT
BEGIN:VEVENT
UID:a2137a2ae8e39b5002a3f8909ecb88fe
DTSTAMP:20260421T061954Z
DTSTART;TZID=Europe/Zurich:20220909T190000
DTEND;TZID=Europe/Zurich:20220911T160000
SUMMARY:Stammweekend Nord - Wölfe
DESCRIPTION:Liebe Wölfe des Stamm Norddakota\n\nSeid ihr bereit für ein u
 nvergessliches Abenteuer? An diesem Wochenende werden die Wölfe der Meute
 n Akela und Chuchundra\, die einen erheblichen Anteil des Nachwuchs für 
 die Abteilung bilden\, in eine neue Welt eintauchen. \nWeitere Infos fol
 gen - Eimal Nord\, Immer Nord
STATUS:CONFIRMED
URL:https://pfadi-sa.ch/event/1065
IMAGE;VALUE=URI;FMTTYPE=image/png;DISPLAY=BADGE:https://pfadi-sa.ch/build/a
 ssets/logo-Nx7_9A4W.png
ATTENDEE;CN=Meute Chuchundra;PARTSTAT=ACCEPTED:MAILTO:Meute Chuchundra@pfad
 i-sa.ch
ATTENDEE;CN=Meute Akela;PARTSTAT=ACCEPTED:MAILTO:Meute Akela@pfadi-sa.ch
END:VEVENT
BEGIN:VEVENT
UID:84d2004bf28a2095230e8e14993d398d
DTSTAMP:20260421T061954Z
DTSTART;TZID=Europe/Zurich:20220917T090000
DTEND;TZID=Europe/Zurich:20220917T180000
SUMMARY:Korpstag Buebe 2022
DESCRIPTION:Am Korpstag treffen wir uns mit den sechs anderen Abteilungen 
 des Korps und bestreiten einen Wettkampf.\nTreffpunkt: Pfadiheim Schwanden
 hölzli\nZeit: 09:00 - 18:00 Uhr\nMitnehmen: Lunch\, Wasser\, vollständig
 e Uniform und wettergerechte Kleidung
STATUS:CONFIRMED
URL:https://pfadi-sa.ch/event/1029
IMAGE;VALUE=URI;FMTTYPE=image/png;DISPLAY=BADGE:https://pfadi-sa.ch/build/a
 ssets/logo-Nx7_9A4W.png
ATTENDEE;CN=Buebepfadi;PARTSTAT=ACCEPTED:MAILTO:Buebepfadi@pfadi-sa.ch
ATTENDEE;CN=Fähnli Anakonda;PARTSTAT=ACCEPTED:MAILTO:Fähnli Anakonda@pfad
 i-sa.ch
ATTENDEE;CN=Fähnli Geier;PARTSTAT=ACCEPTED:MAILTO:Fähnli Geier@pfadi-sa.c
 h
ATTENDEE;CN=Fähnli Panther;PARTSTAT=ACCEPTED:MAILTO:Fähnli Panther@pfadi-
 sa.ch
ATTENDEE;CN=Meute Sioni;PARTSTAT=ACCEPTED:MAILTO:Meute Sioni@pfadi-sa.ch
ATTENDEE;CN=Meute Phao;PARTSTAT=ACCEPTED:MAILTO:Meute Phao@pfadi-sa.ch
ATTENDEE;CN=Fähnli Adler;PARTSTAT=ACCEPTED:MAILTO:Fähnli Adler@pfadi-sa.c
 h
ATTENDEE;CN=Fähnli Bussard;PARTSTAT=ACCEPTED:MAILTO:Fähnli Bussard@pfadi-
 sa.ch
ATTENDEE;CN=Fähnli Büffel;PARTSTAT=ACCEPTED:MAILTO:Fähnli Büffel@pfadi-
 sa.ch
ATTENDEE;CN=Meute Chuchundra;PARTSTAT=ACCEPTED:MAILTO:Meute Chuchundra@pfad
 i-sa.ch
ATTENDEE;CN=Meute Akela;PARTSTAT=ACCEPTED:MAILTO:Meute Akela@pfadi-sa.ch
END:VEVENT
BEGIN:VEVENT
UID:83fa5a432ae55c253d0e60dbfa716723
DTSTAMP:20260421T061954Z
DTSTART;TZID=Europe/Zurich:20220917T133000
DTEND;TZID=Europe/Zurich:20220918T120000
SUMMARY:Biberweekend
DESCRIPTION:Infos\, siehe Anmeldung
STATUS:CONFIRMED
URL:https://pfadi-sa.ch/event/1036
IMAGE;VALUE=URI;FMTTYPE=image/png;DISPLAY=BADGE:https://pfadi-sa.ch/build/a
 ssets/logo-Nx7_9A4W.png
ATTENDEE;CN=Biberstufe;PARTSTAT=ACCEPTED:MAILTO:Biberstufe@pfadi-sa.ch
ATTENDEE;CN=Mauna;PARTSTAT=ACCEPTED:MAILTO:Mauna@pfadi-sa.ch
ATTENDEE;CN=Sori;PARTSTAT=ACCEPTED:MAILTO:Sori@pfadi-sa.ch
END:VEVENT
BEGIN:VEVENT
UID:fc2c7c47b918d0c2d792a719dfb602ef
DTSTAMP:20260421T061954Z
DTSTART;TZID=Europe/Zurich:20220923T000100
DTEND;TZID=Europe/Zurich:20220925T235900
SUMMARY:P-Weekend
DESCRIPTION:Alle Pfadis mit Jahrgang 2009 oder älter\, die noch kein P-Abz
 eichen besitzen werden zu diesem Wochenende eingeladen. Dabei lernen die P
 fadis Pfaditechnik kennen und vertiefen ihr Wissen diesbezüglich.\nDie An
 meldung bekommen alle betroffenen Personen direkt zugestellt.\nBei Fragen 
 steht Meru zur Verfügung: meru@pfadi-sa.ch 
STATUS:CONFIRMED
URL:https://pfadi-sa.ch/event/1069
IMAGE;VALUE=URI;FMTTYPE=image/png;DISPLAY=BADGE:https://pfadi-sa.ch/build/a
 ssets/logo-Nx7_9A4W.png
ATTENDEE;CN=Buebepfadi;PARTSTAT=ACCEPTED:MAILTO:Buebepfadi@pfadi-sa.ch
ATTENDEE;CN=Meitlipfadi;PARTSTAT=ACCEPTED:MAILTO:Meitlipfadi@pfadi-sa.ch
ATTENDEE;CN=Stamm Süddakota;PARTSTAT=ACCEPTED:MAILTO:Stamm Süddakota@pfad
 i-sa.ch
ATTENDEE;CN=Stamm Norddakota;PARTSTAT=ACCEPTED:MAILTO:Stamm Norddakota@pfad
 i-sa.ch
ATTENDEE;CN=Fähnli Anakonda;PARTSTAT=ACCEPTED:MAILTO:Fähnli Anakonda@pfad
 i-sa.ch
ATTENDEE;CN=Fähnli Geier;PARTSTAT=ACCEPTED:MAILTO:Fähnli Geier@pfadi-sa.c
 h
ATTENDEE;CN=Fähnli Panther;PARTSTAT=ACCEPTED:MAILTO:Fähnli Panther@pfadi-
 sa.ch
ATTENDEE;CN=Fähnli Adler;PARTSTAT=ACCEPTED:MAILTO:Fähnli Adler@pfadi-sa.c
 h
ATTENDEE;CN=Fähnli Bussard;PARTSTAT=ACCEPTED:MAILTO:Fähnli Bussard@pfadi-
 sa.ch
ATTENDEE;CN=Fähnli Büffel;PARTSTAT=ACCEPTED:MAILTO:Fähnli Büffel@pfadi-
 sa.ch
ATTENDEE;CN=Stamm Turricum;PARTSTAT=ACCEPTED:MAILTO:Stamm Turricum@pfadi-sa
 .ch
ATTENDEE;CN=Stamm Vindonissa;PARTSTAT=ACCEPTED:MAILTO:Stamm Vindonissa@pfad
 i-sa.ch
ATTENDEE;CN=Mettowing;PARTSTAT=ACCEPTED:MAILTO:Mettowing@pfadi-sa.ch
ATTENDEE;CN=Obfilda;PARTSTAT=ACCEPTED:MAILTO:Obfilda@pfadi-sa.ch
ATTENDEE;CN=Chnonowa;PARTSTAT=ACCEPTED:MAILTO:Chnonowa@pfadi-sa.ch
ATTENDEE;CN=Hadung;PARTSTAT=ACCEPTED:MAILTO:Hadung@pfadi-sa.ch
ATTENDEE;CN=Masowanda;PARTSTAT=ACCEPTED:MAILTO:Masowanda@pfadi-sa.ch
END:VEVENT
BEGIN:VEVENT
UID:bdb106a0560c4e46ccc488ef010af787
DTSTAMP:20260421T061954Z
DTSTART;TZID=Europe/Zurich:20220924T133000
DTEND;TZID=Europe/Zurich:20220924T160000
SUMMARY:Überechrüchete
DESCRIPTION:Überechrüchete\, siehe QP
STATUS:CONFIRMED
URL:https://pfadi-sa.ch/event/1034
IMAGE;VALUE=URI;FMTTYPE=image/png;DISPLAY=BADGE:https://pfadi-sa.ch/build/a
 ssets/logo-Nx7_9A4W.png
ATTENDEE;CN=Biberstufe;PARTSTAT=ACCEPTED:MAILTO:Biberstufe@pfadi-sa.ch
ATTENDEE;CN=Mauna;PARTSTAT=ACCEPTED:MAILTO:Mauna@pfadi-sa.ch
ATTENDEE;CN=Sori;PARTSTAT=ACCEPTED:MAILTO:Sori@pfadi-sa.ch
END:VEVENT
BEGIN:VEVENT
UID:021bbc7ee20b71134d53e20206bd6feb
DTSTAMP:20260421T061954Z
DTSTART;TZID=Europe/Zurich:20220930T000100
DTEND;TZID=Europe/Zurich:20221002T235900
SUMMARY:Fährtenweekend 3-22
DESCRIPTION:Die Leiterinnen und Leiter der Pfadi Säuliamt begeben sich ins
  Pfadiheim Schwandenhölzli\, um das nächste Quartal zu planen\, sich wei
 terzubilden sowie Berichte für die neuste Ausgabe der Fährte zu verfas
 sen. \nWeitere Infos kannst du bei deinem Stafü und/oder AL abholen.\nAn
  diesem Samstag finden bei den Buebe keine Aktivitäten statt.
STATUS:CONFIRMED
URL:https://pfadi-sa.ch/event/1024
IMAGE;VALUE=URI;FMTTYPE=image/png;DISPLAY=BADGE:https://pfadi-sa.ch/build/a
 ssets/logo-Nx7_9A4W.png
ATTENDEE;CN=Buebepfadi;PARTSTAT=ACCEPTED:MAILTO:Buebepfadi@pfadi-sa.ch
ATTENDEE;CN=Meitlipfadi;PARTSTAT=ACCEPTED:MAILTO:Meitlipfadi@pfadi-sa.ch
END:VEVENT
END:VCALENDAR