BEGIN:VCALENDAR
VERSION:2.0
PRODID:spatie/icalendar-generator
NAME:Eventkalender Monatsübersicht Januar 2023
X-WR-CALNAME:Eventkalender Monatsübersicht Januar 2023
BEGIN:VTIMEZONE
TZID:Europe/Zurich
BEGIN:STANDARD
DTSTART:20221030T030000
TZOFFSETFROM:+0200
TZOFFSETTO:+0100
END:STANDARD
BEGIN:DAYLIGHT
DTSTART:20230326T010000
TZOFFSETFROM:+0100
TZOFFSETTO:+0200
END:DAYLIGHT
END:VTIMEZONE
BEGIN:VTIMEZONE
TZID:UTC
BEGIN:STANDARD
DTSTART:20250725T045449
TZOFFSETFROM:+0000
TZOFFSETTO:+0000
END:STANDARD
END:VTIMEZONE
BEGIN:VEVENT
UID:dd77279f7d325eec933f05b1672f6a1f
DTSTAMP:20260421T045449Z
DTSTART;TZID=Europe/Zurich:20230114T140000
DTEND;TZID=Europe/Zurich:20230114T163000
SUMMARY:Stammübung Norddakota
DESCRIPTION:Wie jedes Jahr gibt es für alle Wölfe und Pfadis des Stamms N
 orddakota eine Stammübung. Dieses Jahr hoffentlich mal wieder im Schnee!
  Wir freuen uns auf euch.
STATUS:CONFIRMED
URL:https://pfadi-sa.ch/event/1116
IMAGE;VALUE=URI;FMTTYPE=image/png;DISPLAY=BADGE:https://pfadi-sa.ch/build/a
 ssets/logo-Nx7_9A4W.png
ATTENDEE;CN=Stamm Norddakota;PARTSTAT=ACCEPTED:MAILTO:Stamm Norddakota@pfad
 i-sa.ch
ATTENDEE;CN=Fähnli Adler;PARTSTAT=ACCEPTED:MAILTO:Fähnli Adler@pfadi-sa.c
 h
ATTENDEE;CN=Fähnli Bussard;PARTSTAT=ACCEPTED:MAILTO:Fähnli Bussard@pfadi-
 sa.ch
ATTENDEE;CN=Fähnli Büffel;PARTSTAT=ACCEPTED:MAILTO:Fähnli Büffel@pfadi-
 sa.ch
ATTENDEE;CN=Meute Chuchundra;PARTSTAT=ACCEPTED:MAILTO:Meute Chuchundra@pfad
 i-sa.ch
ATTENDEE;CN=Meute Akela;PARTSTAT=ACCEPTED:MAILTO:Meute Akela@pfadi-sa.ch
ATTENDEE;CN=Meute Toomai;PARTSTAT=ACCEPTED:MAILTO:Meute Toomai@pfadi-sa.ch
END:VEVENT
BEGIN:VEVENT
UID:062ddb6c727310e76b6200b7c71f63b5
DTSTAMP:20260421T045449Z
DTSTART;TZID=Europe/Zurich:20230120T000000
DTEND;TZID=Europe/Zurich:20230122T235900
SUMMARY:Leitwolfweekend
DESCRIPTION:Das Leitwolfweekend für alle Buebewölf
STATUS:CONFIRMED
URL:https://pfadi-sa.ch/event/1077
IMAGE;VALUE=URI;FMTTYPE=image/png;DISPLAY=BADGE:https://pfadi-sa.ch/build/a
 ssets/logo-Nx7_9A4W.png
ATTENDEE;CN=Meute Sioni;PARTSTAT=ACCEPTED:MAILTO:Meute Sioni@pfadi-sa.ch
ATTENDEE;CN=Meute Phao;PARTSTAT=ACCEPTED:MAILTO:Meute Phao@pfadi-sa.ch
ATTENDEE;CN=Meute Chuchundra;PARTSTAT=ACCEPTED:MAILTO:Meute Chuchundra@pfad
 i-sa.ch
ATTENDEE;CN=Meute Akela;PARTSTAT=ACCEPTED:MAILTO:Meute Akela@pfadi-sa.ch
ATTENDEE;CN=Meute Toomai;PARTSTAT=ACCEPTED:MAILTO:Meute Toomai@pfadi-sa.ch
END:VEVENT
BEGIN:VEVENT
UID:4a213d37242bdcad8e7300e202e7caa4
DTSTAMP:20260421T045449Z
DTSTART;TZID=Europe/Zurich:20230121T080000
DTEND;TZID=Europe/Zurich:20230121T184500
SUMMARY:Schlitteltag Meitlipfadi Pfadistufe
DESCRIPTION:Am 21. Januar geht die Pfadistufe der Meitlipfadi in Elm Schlit
 teln! Meldet euch alle an:)
STATUS:CONFIRMED
URL:https://pfadi-sa.ch/event/1130
IMAGE;VALUE=URI;FMTTYPE=image/png;DISPLAY=BADGE:https://pfadi-sa.ch/build/a
 ssets/logo-Nx7_9A4W.png
ATTENDEE;CN=Meitlipfadi;PARTSTAT=ACCEPTED:MAILTO:Meitlipfadi@pfadi-sa.ch
ATTENDEE;CN=Stamm Turricum;PARTSTAT=ACCEPTED:MAILTO:Stamm Turricum@pfadi-sa
 .ch
ATTENDEE;CN=Stamm Vindonissa;PARTSTAT=ACCEPTED:MAILTO:Stamm Vindonissa@pfad
 i-sa.ch
ATTENDEE;CN=Wolfsstufe Meitli;PARTSTAT=ACCEPTED:MAILTO:Wolfsstufe Meitli@pf
 adi-sa.ch
ATTENDEE;CN=Piostufe Meitli;PARTSTAT=ACCEPTED:MAILTO:Piostufe Meitli@pfadi-
 sa.ch
ATTENDEE;CN=Roverstufe;PARTSTAT=ACCEPTED:MAILTO:Roverstufe@pfadi-sa.ch
ATTENDEE;CN=Mettowing;PARTSTAT=ACCEPTED:MAILTO:Mettowing@pfadi-sa.ch
ATTENDEE;CN=Obfilda;PARTSTAT=ACCEPTED:MAILTO:Obfilda@pfadi-sa.ch
ATTENDEE;CN=Chnonowa;PARTSTAT=ACCEPTED:MAILTO:Chnonowa@pfadi-sa.ch
ATTENDEE;CN=Hadung;PARTSTAT=ACCEPTED:MAILTO:Hadung@pfadi-sa.ch
ATTENDEE;CN=Masowanda;PARTSTAT=ACCEPTED:MAILTO:Masowanda@pfadi-sa.ch
ATTENDEE;CN=Tala;PARTSTAT=ACCEPTED:MAILTO:Tala@pfadi-sa.ch
ATTENDEE;CN=Shial;PARTSTAT=ACCEPTED:MAILTO:Shial@pfadi-sa.ch
ATTENDEE;CN=Weowa;PARTSTAT=ACCEPTED:MAILTO:Weowa@pfadi-sa.ch
ATTENDEE;CN=Waya;PARTSTAT=ACCEPTED:MAILTO:Waya@pfadi-sa.ch
ATTENDEE;CN=Talitha;PARTSTAT=ACCEPTED:MAILTO:Talitha@pfadi-sa.ch
ATTENDEE;CN=Lukida;PARTSTAT=ACCEPTED:MAILTO:Lukida@pfadi-sa.ch
END:VEVENT
BEGIN:VEVENT
UID:d6ef5f7fa914c19931a55bb262ec879c
DTSTAMP:20260421T045449Z
DTSTART;TZID=Europe/Zurich;VALUE=DATE:20230128
DTEND;TZID=Europe/Zurich;VALUE=DATE:20230128
SUMMARY:Stammturnen
DESCRIPTION:Stammturnen_Flyer_2023.pdf\nLageplan_Stammturnen_2023.pdf
STATUS:CONFIRMED
X-MICROSOFT-CDO-ALLDAYEVENT:TRUE
URL:https://pfadi-sa.ch/event/1114
IMAGE;VALUE=URI;FMTTYPE=image/png;DISPLAY=BADGE:https://pfadi-sa.ch/build/a
 ssets/logo-Nx7_9A4W.png
ATTENDEE;CN=Stamm Süddakota;PARTSTAT=ACCEPTED:MAILTO:Stamm Süddakota@pfad
 i-sa.ch
ATTENDEE;CN=Fähnli Anakonda;PARTSTAT=ACCEPTED:MAILTO:Fähnli Anakonda@pfad
 i-sa.ch
ATTENDEE;CN=Fähnli Geier;PARTSTAT=ACCEPTED:MAILTO:Fähnli Geier@pfadi-sa.c
 h
ATTENDEE;CN=Fähnli Panther;PARTSTAT=ACCEPTED:MAILTO:Fähnli Panther@pfadi-
 sa.ch
ATTENDEE;CN=Meute Sioni;PARTSTAT=ACCEPTED:MAILTO:Meute Sioni@pfadi-sa.ch
ATTENDEE;CN=Meute Phao;PARTSTAT=ACCEPTED:MAILTO:Meute Phao@pfadi-sa.ch
END:VEVENT
END:VCALENDAR