BEGIN:VCALENDAR
VERSION:2.0
PRODID:spatie/icalendar-generator
NAME:Eventkalender Monatsübersicht November 2023
X-WR-CALNAME:Eventkalender Monatsübersicht November 2023
BEGIN:VTIMEZONE
TZID:Europe/Zurich
BEGIN:DAYLIGHT
DTSTART:20230326T010000
TZOFFSETFROM:+0100
TZOFFSETTO:+0200
END:DAYLIGHT
BEGIN:STANDARD
DTSTART:20231029T030000
TZOFFSETFROM:+0200
TZOFFSETTO:+0100
END:STANDARD
BEGIN:DAYLIGHT
DTSTART:20240331T010000
TZOFFSETFROM:+0100
TZOFFSETTO:+0200
END:DAYLIGHT
END:VTIMEZONE
BEGIN:VTIMEZONE
TZID:UTC
BEGIN:STANDARD
DTSTART:20250725T045449
TZOFFSETFROM:+0000
TZOFFSETTO:+0000
END:STANDARD
END:VTIMEZONE
BEGIN:VEVENT
UID:fd2c5e4680d9a01dba3aada5ece22270
DTSTAMP:20260421T045449Z
DTSTART;TZID=Europe/Zurich:20231110T170000
DTEND;TZID=Europe/Zurich:20231112T170000
SUMMARY:Pio Weekend
DESCRIPTION:Es Pio weekend für die Ältere Pios
STATUS:CONFIRMED
URL:https://pfadi-sa.ch/event/1135
IMAGE;VALUE=URI;FMTTYPE=image/png;DISPLAY=BADGE:https://pfadi-sa.ch/build/a
 ssets/logo-Nx7_9A4W.png
ATTENDEE;CN=Piostufe Buebe;PARTSTAT=ACCEPTED:MAILTO:Piostufe Buebe@pfadi-sa
 .ch
ATTENDEE;CN=Talitha;PARTSTAT=ACCEPTED:MAILTO:Talitha@pfadi-sa.ch
END:VEVENT
BEGIN:VEVENT
UID:a113c1ecd3cace2237256f4c712f61b5
DTSTAMP:20260421T045449Z
DTSTART;TZID=Europe/Zurich:20231111T133000
DTEND;TZID=Europe/Zurich:20231111T160000
SUMMARY:Überechrüchete
DESCRIPTION:Die ältesten Biber chrüchet in die Wolfsstufe.
STATUS:CONFIRMED
URL:https://pfadi-sa.ch/event/1171
IMAGE;VALUE=URI;FMTTYPE=image/png;DISPLAY=BADGE:https://pfadi-sa.ch/build/a
 ssets/logo-Nx7_9A4W.png
END:VEVENT
BEGIN:VEVENT
UID:e5e63da79fcd2bebbd7cb8bf1c1d0274
DTSTAMP:20260421T045449Z
DTSTART;TZID=Europe/Zurich:20231111T140000
DTEND;TZID=Europe/Zurich:20231111T170000
SUMMARY:Pfadistufenaktivität
DESCRIPTION:Neu gibt es dieses Jahr einen Pfadistufenanlass und wir gehen S
 chlittschuh fahren in Urdorf.\nPfadistufenanlass 2023.pdf
STATUS:CONFIRMED
URL:https://pfadi-sa.ch/event/1083
IMAGE;VALUE=URI;FMTTYPE=image/png;DISPLAY=BADGE:https://pfadi-sa.ch/build/a
 ssets/logo-Nx7_9A4W.png
ATTENDEE;CN=Fähnli Anakonda;PARTSTAT=ACCEPTED:MAILTO:Fähnli Anakonda@pfad
 i-sa.ch
ATTENDEE;CN=Fähnli Geier;PARTSTAT=ACCEPTED:MAILTO:Fähnli Geier@pfadi-sa.c
 h
ATTENDEE;CN=Fähnli Panther;PARTSTAT=ACCEPTED:MAILTO:Fähnli Panther@pfadi-
 sa.ch
ATTENDEE;CN=Fähnli Adler;PARTSTAT=ACCEPTED:MAILTO:Fähnli Adler@pfadi-sa.c
 h
ATTENDEE;CN=Fähnli Bussard;PARTSTAT=ACCEPTED:MAILTO:Fähnli Bussard@pfadi-
 sa.ch
ATTENDEE;CN=Fähnli Büffel;PARTSTAT=ACCEPTED:MAILTO:Fähnli Büffel@pfadi-
 sa.ch
END:VEVENT
BEGIN:VEVENT
UID:e22312179bf43e61576081a2f250f845
DTSTAMP:20260421T045449Z
DTSTART;TZID=Europe/Zurich:20231111T150000
DTEND;TZID=Europe/Zurich:20231111T200000
SUMMARY:Jassaläss UNO meh
DESCRIPTION:Zusammen schieben wir einen Jass nach dem andern. Die Jassbanau
 sen unter euch können ihre Kartenaffinität beim UNO-Turnier unter Beweis
  stellen. Freut euch auf die anschliessenden Älpler-Maccaronen!\n\nWann: 
 Samstag 11.11.2022\n          \nWo: Pfadiheim Schwandenhölzli\, 
 Affoltern a. A.\n\nWer: Egal ob Profi-Jasserin oder UNO-Liebhaber\, sei da
 bei!\n\nSpecial Guest: Musikalische Auflockerung durch den Jodlerklub Affo
 ltern am Albis\n\n\nKosten: Kostenlose Teilnahme und Znacht. Um den Anlass
  zu finanzieren\, sind Spenden willkommen. \n\nVerpflegung: Minibar mit G
 etränken und Snacks stehen für einen kleinen Batzen bereit. Znacht ist f
 ür alle Jassenden inklusive :)\n\n\n\nTurnier:\n\nJassturnier: \nSchieber
  Turnier in Zweier TeamsAnmeldung als Zweierteam. Wenn du keine:n Spielpar
 tner:in hast\, kannst du dich alleine anmelden und wir suchen einen MatchI
 nformationen zum Spielmodus findest du hier in Bälde\n\nUno-Turnier: \nAl
 le gegen alleInformationen zum Spielmodus findest du hier in Bälde.\n\n\n
 Turnierablauf:               \n\nEinlass: ab 14:30 Uhr\nTurniers
 tart: 15:00 Uhr\nJodelkonzert: 17:00 Uhr\n\nTurnierende: ca. 19:00 Uhr\nZn
 acht und Rangverkündigung: ab 19:00 Uhr      \nAnmeldung:\nAnmeldung 
 bis am 5.11.2022 hier\nKontakt:\nBei Fragen kannst du dich ungeniert bei 
 jassanlass@pfadi-sa.ch melden.\n\nWir freuen uns auf dich!
STATUS:CONFIRMED
URL:https://pfadi-sa.ch/event/1156
IMAGE;VALUE=URI;FMTTYPE=image/png;DISPLAY=BADGE:https://pfadi-sa.ch/build/a
 ssets/logo-Nx7_9A4W.png
END:VEVENT
BEGIN:VEVENT
UID:754dda4b1ba34c6fa89716b85d68532b
DTSTAMP:20260421T045449Z
DTSTART;TZID=Europe/Zurich:20231117T200000
DTEND;TZID=Europe/Zurich:20231119T160000
SUMMARY:Fährtenweekend 4-23
DESCRIPTION:Die Leiterinnen und Leiter der Pfadi Säuliamt begeben sich ins
  Pfadiheim Schwandenhölzli\, um das nächste Quartal zu planen\, sich wei
 terzubilden sowie Berichte für die neuste Ausgabe der Fährte zu verfas
 sen. \nWeitere Infos kannst du bei deinem Stafü und/oder AL abholen.\nAn
  diesem Samstag finden bei den Buebe keine Aktivitäten statt.
STATUS:CONFIRMED
URL:https://pfadi-sa.ch/event/1091
IMAGE;VALUE=URI;FMTTYPE=image/png;DISPLAY=BADGE:https://pfadi-sa.ch/build/a
 ssets/logo-Nx7_9A4W.png
END:VEVENT
BEGIN:VEVENT
UID:45f31d16b1058d586fc3be7207b58053
DTSTAMP:20260421T045449Z
DTSTART;TZID=Europe/Zurich;VALUE=DATE:20231125
DTEND;TZID=Europe/Zurich;VALUE=DATE:20231125
SUMMARY:Abteilungstag Meitlipfadi mit Diashow
DESCRIPTION:Wir Meitlipfadis verbringen einen Nachmittag alle zusammen und 
 stärken unseren Zusammenhalt. Danach sind alle Kinder und Familien herzli
 ch zur Diashow eingeladen.
STATUS:CONFIRMED
X-MICROSOFT-CDO-ALLDAYEVENT:TRUE
URL:https://pfadi-sa.ch/event/1152
IMAGE;VALUE=URI;FMTTYPE=image/png;DISPLAY=BADGE:https://pfadi-sa.ch/build/a
 ssets/logo-Nx7_9A4W.png
ATTENDEE;CN=Meitlipfadi;PARTSTAT=ACCEPTED:MAILTO:Meitlipfadi@pfadi-sa.ch
ATTENDEE;CN=Stamm Turricum;PARTSTAT=ACCEPTED:MAILTO:Stamm Turricum@pfadi-sa
 .ch
ATTENDEE;CN=Stamm Vindonissa;PARTSTAT=ACCEPTED:MAILTO:Stamm Vindonissa@pfad
 i-sa.ch
ATTENDEE;CN=Wolfsstufe Meitli;PARTSTAT=ACCEPTED:MAILTO:Wolfsstufe Meitli@pf
 adi-sa.ch
ATTENDEE;CN=Piostufe Meitli;PARTSTAT=ACCEPTED:MAILTO:Piostufe Meitli@pfadi-
 sa.ch
ATTENDEE;CN=Roverstufe;PARTSTAT=ACCEPTED:MAILTO:Roverstufe@pfadi-sa.ch
ATTENDEE;CN=Mettowing;PARTSTAT=ACCEPTED:MAILTO:Mettowing@pfadi-sa.ch
ATTENDEE;CN=Obfilda;PARTSTAT=ACCEPTED:MAILTO:Obfilda@pfadi-sa.ch
ATTENDEE;CN=Chnonowa;PARTSTAT=ACCEPTED:MAILTO:Chnonowa@pfadi-sa.ch
ATTENDEE;CN=Hadung;PARTSTAT=ACCEPTED:MAILTO:Hadung@pfadi-sa.ch
ATTENDEE;CN=Masowanda;PARTSTAT=ACCEPTED:MAILTO:Masowanda@pfadi-sa.ch
ATTENDEE;CN=Tala;PARTSTAT=ACCEPTED:MAILTO:Tala@pfadi-sa.ch
ATTENDEE;CN=Shial;PARTSTAT=ACCEPTED:MAILTO:Shial@pfadi-sa.ch
ATTENDEE;CN=Weowa;PARTSTAT=ACCEPTED:MAILTO:Weowa@pfadi-sa.ch
ATTENDEE;CN=Waya;PARTSTAT=ACCEPTED:MAILTO:Waya@pfadi-sa.ch
ATTENDEE;CN=Talitha;PARTSTAT=ACCEPTED:MAILTO:Talitha@pfadi-sa.ch
ATTENDEE;CN=Lukida;PARTSTAT=ACCEPTED:MAILTO:Lukida@pfadi-sa.ch
END:VEVENT
END:VCALENDAR