BEGIN:VCALENDAR
VERSION:2.0
PRODID:spatie/icalendar-generator
NAME:Eventkalender Monatsübersicht Dezember 2023
X-WR-CALNAME:Eventkalender Monatsübersicht Dezember 2023
BEGIN:VTIMEZONE
TZID:Europe/Zurich
BEGIN:DAYLIGHT
DTSTART:20230326T010000
TZOFFSETFROM:+0100
TZOFFSETTO:+0200
END:DAYLIGHT
BEGIN:STANDARD
DTSTART:20231029T030000
TZOFFSETFROM:+0200
TZOFFSETTO:+0100
END:STANDARD
BEGIN:DAYLIGHT
DTSTART:20240331T010000
TZOFFSETFROM:+0100
TZOFFSETTO:+0200
END:DAYLIGHT
END:VTIMEZONE
BEGIN:VTIMEZONE
TZID:UTC
BEGIN:STANDARD
DTSTART:20250725T045449
TZOFFSETFROM:+0000
TZOFFSETTO:+0000
END:STANDARD
END:VTIMEZONE
BEGIN:VEVENT
UID:9f36407ead0629fc166f14dde7970f68
DTSTAMP:20260421T045449Z
DTSTART;TZID=Europe/Zurich;VALUE=DATE:20231202
DTEND;TZID=Europe/Zurich;VALUE=DATE:20231202
SUMMARY:Pfadichlaus 2023
DESCRIPTION:Auch in diesem Jahr zieht der Samichlaus durchs Säuliamt und m
 acht einen Halt im Pfadiheim. Seid also dabei\, wenn der Chlaus vorbeikomm
 t.Flyer-Chlaus-2023.pdf
STATUS:CONFIRMED
X-MICROSOFT-CDO-ALLDAYEVENT:TRUE
URL:https://pfadi-sa.ch/event/1084
IMAGE;VALUE=URI;FMTTYPE=image/png;DISPLAY=BADGE:https://pfadi-sa.ch/build/a
 ssets/logo-Nx7_9A4W.png
ATTENDEE;CN=Buebepfadi;PARTSTAT=ACCEPTED:MAILTO:Buebepfadi@pfadi-sa.ch
ATTENDEE;CN=Fähnli Anakonda;PARTSTAT=ACCEPTED:MAILTO:Fähnli Anakonda@pfad
 i-sa.ch
ATTENDEE;CN=Fähnli Geier;PARTSTAT=ACCEPTED:MAILTO:Fähnli Geier@pfadi-sa.c
 h
ATTENDEE;CN=Fähnli Panther;PARTSTAT=ACCEPTED:MAILTO:Fähnli Panther@pfadi-
 sa.ch
ATTENDEE;CN=Meute Sioni;PARTSTAT=ACCEPTED:MAILTO:Meute Sioni@pfadi-sa.ch
ATTENDEE;CN=Meute Phao;PARTSTAT=ACCEPTED:MAILTO:Meute Phao@pfadi-sa.ch
ATTENDEE;CN=Fähnli Adler;PARTSTAT=ACCEPTED:MAILTO:Fähnli Adler@pfadi-sa.c
 h
ATTENDEE;CN=Fähnli Bussard;PARTSTAT=ACCEPTED:MAILTO:Fähnli Bussard@pfadi-
 sa.ch
ATTENDEE;CN=Fähnli Büffel;PARTSTAT=ACCEPTED:MAILTO:Fähnli Büffel@pfadi-
 sa.ch
ATTENDEE;CN=Meute Chuchundra;PARTSTAT=ACCEPTED:MAILTO:Meute Chuchundra@pfad
 i-sa.ch
ATTENDEE;CN=Meute Akela;PARTSTAT=ACCEPTED:MAILTO:Meute Akela@pfadi-sa.ch
ATTENDEE;CN=Meute Toomai;PARTSTAT=ACCEPTED:MAILTO:Meute Toomai@pfadi-sa.ch
END:VEVENT
BEGIN:VEVENT
UID:36a1694bce9815b7e38a9dad05ad42e0
DTSTAMP:20260421T045449Z
DTSTART;TZID=Europe/Zurich:20231202T133000
DTEND;TZID=Europe/Zurich:20231202T160000
SUMMARY:Meitliwölfli Chlaus
DESCRIPTION:Der Chlaus besucht auch wieder dieses Jahr die Meitliwölfli.
STATUS:CONFIRMED
URL:https://pfadi-sa.ch/event/1172
IMAGE;VALUE=URI;FMTTYPE=image/png;DISPLAY=BADGE:https://pfadi-sa.ch/build/a
 ssets/logo-Nx7_9A4W.png
ATTENDEE;CN=Wolfsstufe Meitli;PARTSTAT=ACCEPTED:MAILTO:Wolfsstufe Meitli@pf
 adi-sa.ch
ATTENDEE;CN=Tala;PARTSTAT=ACCEPTED:MAILTO:Tala@pfadi-sa.ch
ATTENDEE;CN=Shial;PARTSTAT=ACCEPTED:MAILTO:Shial@pfadi-sa.ch
ATTENDEE;CN=Weowa;PARTSTAT=ACCEPTED:MAILTO:Weowa@pfadi-sa.ch
ATTENDEE;CN=Waya;PARTSTAT=ACCEPTED:MAILTO:Waya@pfadi-sa.ch
END:VEVENT
BEGIN:VEVENT
UID:20d135f0f28185b84a4cf7aa51f29500
DTSTAMP:20260421T045449Z
DTSTART;TZID=Europe/Zurich:20231205T193000
DTEND;TZID=Europe/Zurich:20231205T210000
SUMMARY:MaBü Weihnachtsverkauf
DESCRIPTION:Besorg dir Weihnachtsgeschenke für deine Pfadifreund:innen. 2
 c_Mabü-Flyer_Weihnachtsverkauf_2023_v2.pdf
STATUS:CONFIRMED
URL:https://pfadi-sa.ch/event/1112
IMAGE;VALUE=URI;FMTTYPE=image/png;DISPLAY=BADGE:https://pfadi-sa.ch/build/a
 ssets/logo-Nx7_9A4W.png
ATTENDEE;CN=Buebepfadi;PARTSTAT=ACCEPTED:MAILTO:Buebepfadi@pfadi-sa.ch
ATTENDEE;CN=Meitlipfadi;PARTSTAT=ACCEPTED:MAILTO:Meitlipfadi@pfadi-sa.ch
ATTENDEE;CN=Biberstufe;PARTSTAT=ACCEPTED:MAILTO:Biberstufe@pfadi-sa.ch
ATTENDEE;CN=keine spezifische Gruppe;PARTSTAT=ACCEPTED:MAILTO:keine spezifi
 sche Gruppe@pfadi-sa.ch
ATTENDEE;CN=Stamm Süddakota;PARTSTAT=ACCEPTED:MAILTO:Stamm Süddakota@pfad
 i-sa.ch
ATTENDEE;CN=Stamm Norddakota;PARTSTAT=ACCEPTED:MAILTO:Stamm Norddakota@pfad
 i-sa.ch
ATTENDEE;CN=Piostufe Buebe;PARTSTAT=ACCEPTED:MAILTO:Piostufe Buebe@pfadi-sa
 .ch
ATTENDEE;CN=Roverstufe;PARTSTAT=ACCEPTED:MAILTO:Roverstufe@pfadi-sa.ch
ATTENDEE;CN=Fähnli Anakonda;PARTSTAT=ACCEPTED:MAILTO:Fähnli Anakonda@pfad
 i-sa.ch
ATTENDEE;CN=Fähnli Geier;PARTSTAT=ACCEPTED:MAILTO:Fähnli Geier@pfadi-sa.c
 h
ATTENDEE;CN=Fähnli Panther;PARTSTAT=ACCEPTED:MAILTO:Fähnli Panther@pfadi-
 sa.ch
ATTENDEE;CN=Meute Sioni;PARTSTAT=ACCEPTED:MAILTO:Meute Sioni@pfadi-sa.ch
ATTENDEE;CN=Meute Phao;PARTSTAT=ACCEPTED:MAILTO:Meute Phao@pfadi-sa.ch
ATTENDEE;CN=Fähnli Adler;PARTSTAT=ACCEPTED:MAILTO:Fähnli Adler@pfadi-sa.c
 h
ATTENDEE;CN=Fähnli Bussard;PARTSTAT=ACCEPTED:MAILTO:Fähnli Bussard@pfadi-
 sa.ch
ATTENDEE;CN=Fähnli Büffel;PARTSTAT=ACCEPTED:MAILTO:Fähnli Büffel@pfadi-
 sa.ch
ATTENDEE;CN=Meute Chuchundra;PARTSTAT=ACCEPTED:MAILTO:Meute Chuchundra@pfad
 i-sa.ch
ATTENDEE;CN=Meute Akela;PARTSTAT=ACCEPTED:MAILTO:Meute Akela@pfadi-sa.ch
ATTENDEE;CN=Stamm Turricum;PARTSTAT=ACCEPTED:MAILTO:Stamm Turricum@pfadi-sa
 .ch
ATTENDEE;CN=Stamm Vindonissa;PARTSTAT=ACCEPTED:MAILTO:Stamm Vindonissa@pfad
 i-sa.ch
ATTENDEE;CN=Wolfsstufe Meitli;PARTSTAT=ACCEPTED:MAILTO:Wolfsstufe Meitli@pf
 adi-sa.ch
ATTENDEE;CN=Piostufe Meitli;PARTSTAT=ACCEPTED:MAILTO:Piostufe Meitli@pfadi-
 sa.ch
ATTENDEE;CN=Roverstufe;PARTSTAT=ACCEPTED:MAILTO:Roverstufe@pfadi-sa.ch
ATTENDEE;CN=Mettowing;PARTSTAT=ACCEPTED:MAILTO:Mettowing@pfadi-sa.ch
ATTENDEE;CN=Obfilda;PARTSTAT=ACCEPTED:MAILTO:Obfilda@pfadi-sa.ch
ATTENDEE;CN=Chnonowa;PARTSTAT=ACCEPTED:MAILTO:Chnonowa@pfadi-sa.ch
ATTENDEE;CN=Hadung;PARTSTAT=ACCEPTED:MAILTO:Hadung@pfadi-sa.ch
ATTENDEE;CN=Masowanda;PARTSTAT=ACCEPTED:MAILTO:Masowanda@pfadi-sa.ch
ATTENDEE;CN=Tala;PARTSTAT=ACCEPTED:MAILTO:Tala@pfadi-sa.ch
ATTENDEE;CN=Shial;PARTSTAT=ACCEPTED:MAILTO:Shial@pfadi-sa.ch
ATTENDEE;CN=Weowa;PARTSTAT=ACCEPTED:MAILTO:Weowa@pfadi-sa.ch
ATTENDEE;CN=Waya;PARTSTAT=ACCEPTED:MAILTO:Waya@pfadi-sa.ch
ATTENDEE;CN=Talitha;PARTSTAT=ACCEPTED:MAILTO:Talitha@pfadi-sa.ch
ATTENDEE;CN=Lukida;PARTSTAT=ACCEPTED:MAILTO:Lukida@pfadi-sa.ch
ATTENDEE;CN=Mauna;PARTSTAT=ACCEPTED:MAILTO:Mauna@pfadi-sa.ch
ATTENDEE;CN=Sori;PARTSTAT=ACCEPTED:MAILTO:Sori@pfadi-sa.ch
ATTENDEE;CN=Dienstpflichtige;PARTSTAT=ACCEPTED:MAILTO:Dienstpflichtige@pfad
 i-sa.ch
ATTENDEE;CN=Meute Toomai;PARTSTAT=ACCEPTED:MAILTO:Meute Toomai@pfadi-sa.ch
END:VEVENT
BEGIN:VEVENT
UID:9c3b1830513cc3b8fc4b76635d32e692
DTSTAMP:20260421T045449Z
DTSTART;TZID=Europe/Zurich:20231216T190000
DTEND;TZID=Europe/Zurich:20231216T220000
SUMMARY:Waldweihnachten 2023
DESCRIPTION:An diesem Abend lassen wir mit Freunden und Familie das Pfadija
 hr ausklingen. Ihr dürft ab 18:30 selbstständig beim Schützenhaus eint
 rudeln und eine farbenfrohe Laterne basteln. Wenn ihr dann euren Weg zum P
 fadiheim gefunden habt\, lassen wir den Abend mit gemeinsamem Singen bei e
 iner Tasse Punsch oder Suppe ausklingen.
STATUS:CONFIRMED
URL:https://pfadi-sa.ch/event/1113
IMAGE;VALUE=URI;FMTTYPE=image/png;DISPLAY=BADGE:https://pfadi-sa.ch/build/a
 ssets/logo-Nx7_9A4W.png
ATTENDEE;CN=Buebepfadi;PARTSTAT=ACCEPTED:MAILTO:Buebepfadi@pfadi-sa.ch
ATTENDEE;CN=Meitlipfadi;PARTSTAT=ACCEPTED:MAILTO:Meitlipfadi@pfadi-sa.ch
ATTENDEE;CN=keine spezifische Gruppe;PARTSTAT=ACCEPTED:MAILTO:keine spezifi
 sche Gruppe@pfadi-sa.ch
ATTENDEE;CN=Stamm Süddakota;PARTSTAT=ACCEPTED:MAILTO:Stamm Süddakota@pfad
 i-sa.ch
ATTENDEE;CN=Stamm Norddakota;PARTSTAT=ACCEPTED:MAILTO:Stamm Norddakota@pfad
 i-sa.ch
ATTENDEE;CN=Piostufe Buebe;PARTSTAT=ACCEPTED:MAILTO:Piostufe Buebe@pfadi-sa
 .ch
ATTENDEE;CN=Roverstufe;PARTSTAT=ACCEPTED:MAILTO:Roverstufe@pfadi-sa.ch
ATTENDEE;CN=Fähnli Anakonda;PARTSTAT=ACCEPTED:MAILTO:Fähnli Anakonda@pfad
 i-sa.ch
ATTENDEE;CN=Fähnli Geier;PARTSTAT=ACCEPTED:MAILTO:Fähnli Geier@pfadi-sa.c
 h
ATTENDEE;CN=Fähnli Panther;PARTSTAT=ACCEPTED:MAILTO:Fähnli Panther@pfadi-
 sa.ch
ATTENDEE;CN=Meute Sioni;PARTSTAT=ACCEPTED:MAILTO:Meute Sioni@pfadi-sa.ch
ATTENDEE;CN=Meute Phao;PARTSTAT=ACCEPTED:MAILTO:Meute Phao@pfadi-sa.ch
ATTENDEE;CN=Fähnli Adler;PARTSTAT=ACCEPTED:MAILTO:Fähnli Adler@pfadi-sa.c
 h
ATTENDEE;CN=Fähnli Bussard;PARTSTAT=ACCEPTED:MAILTO:Fähnli Bussard@pfadi-
 sa.ch
ATTENDEE;CN=Fähnli Büffel;PARTSTAT=ACCEPTED:MAILTO:Fähnli Büffel@pfadi-
 sa.ch
ATTENDEE;CN=Meute Chuchundra;PARTSTAT=ACCEPTED:MAILTO:Meute Chuchundra@pfad
 i-sa.ch
ATTENDEE;CN=Meute Akela;PARTSTAT=ACCEPTED:MAILTO:Meute Akela@pfadi-sa.ch
ATTENDEE;CN=Stamm Turricum;PARTSTAT=ACCEPTED:MAILTO:Stamm Turricum@pfadi-sa
 .ch
ATTENDEE;CN=Stamm Vindonissa;PARTSTAT=ACCEPTED:MAILTO:Stamm Vindonissa@pfad
 i-sa.ch
ATTENDEE;CN=Wolfsstufe Meitli;PARTSTAT=ACCEPTED:MAILTO:Wolfsstufe Meitli@pf
 adi-sa.ch
ATTENDEE;CN=Piostufe Meitli;PARTSTAT=ACCEPTED:MAILTO:Piostufe Meitli@pfadi-
 sa.ch
ATTENDEE;CN=Roverstufe;PARTSTAT=ACCEPTED:MAILTO:Roverstufe@pfadi-sa.ch
ATTENDEE;CN=Mettowing;PARTSTAT=ACCEPTED:MAILTO:Mettowing@pfadi-sa.ch
ATTENDEE;CN=Obfilda;PARTSTAT=ACCEPTED:MAILTO:Obfilda@pfadi-sa.ch
ATTENDEE;CN=Chnonowa;PARTSTAT=ACCEPTED:MAILTO:Chnonowa@pfadi-sa.ch
ATTENDEE;CN=Hadung;PARTSTAT=ACCEPTED:MAILTO:Hadung@pfadi-sa.ch
ATTENDEE;CN=Masowanda;PARTSTAT=ACCEPTED:MAILTO:Masowanda@pfadi-sa.ch
ATTENDEE;CN=Tala;PARTSTAT=ACCEPTED:MAILTO:Tala@pfadi-sa.ch
ATTENDEE;CN=Shial;PARTSTAT=ACCEPTED:MAILTO:Shial@pfadi-sa.ch
ATTENDEE;CN=Weowa;PARTSTAT=ACCEPTED:MAILTO:Weowa@pfadi-sa.ch
ATTENDEE;CN=Waya;PARTSTAT=ACCEPTED:MAILTO:Waya@pfadi-sa.ch
ATTENDEE;CN=Talitha;PARTSTAT=ACCEPTED:MAILTO:Talitha@pfadi-sa.ch
ATTENDEE;CN=Lukida;PARTSTAT=ACCEPTED:MAILTO:Lukida@pfadi-sa.ch
ATTENDEE;CN=Dienstpflichtige;PARTSTAT=ACCEPTED:MAILTO:Dienstpflichtige@pfad
 i-sa.ch
ATTENDEE;CN=Meute Toomai;PARTSTAT=ACCEPTED:MAILTO:Meute Toomai@pfadi-sa.ch
END:VEVENT
END:VCALENDAR