BEGIN:VCALENDAR
VERSION:2.0
PRODID:spatie/icalendar-generator
NAME:Eventkalender Monatsübersicht April 2023
X-WR-CALNAME:Eventkalender Monatsübersicht April 2023
BEGIN:VTIMEZONE
TZID:Europe/Zurich
BEGIN:STANDARD
DTSTART:20221030T030000
TZOFFSETFROM:+0200
TZOFFSETTO:+0100
END:STANDARD
BEGIN:DAYLIGHT
DTSTART:20230326T010000
TZOFFSETFROM:+0100
TZOFFSETTO:+0200
END:DAYLIGHT
END:VTIMEZONE
BEGIN:VTIMEZONE
TZID:UTC
BEGIN:STANDARD
DTSTART:20250725T045425
TZOFFSETFROM:+0000
TZOFFSETTO:+0000
END:STANDARD
END:VTIMEZONE
BEGIN:VEVENT
UID:0c048b3a434e49e655c1247efb389cec
DTSTAMP:20260421T045425Z
DTSTART;TZID=Europe/Zurich:20230414T000000
DTEND;TZID=Europe/Zurich:20230416T000000
SUMMARY:OP-Nachweekend
DESCRIPTION:Gemeinsam werden alle Pfadis\, die im vergangenen Jahr das OP-L
 ager besucht haben\, noch einmal die Möglichkeit haben\, sich intensiv au
 szutauschen. Diejenigen Pfadis\, die das OP-Abzeichen nicht schon im OP-La
 ger selbst ergattern konnten\, kriegen eine zweite Chance im OP-Nachweeken
 d. Doch auch der Spassfaktor wird nicht zu kurz kommen! 
STATUS:CONFIRMED
URL:https://pfadi-sa.ch/event/1158
IMAGE;VALUE=URI;FMTTYPE=image/png;DISPLAY=BADGE:https://pfadi-sa.ch/build/a
 ssets/logo-Nx7_9A4W.png
END:VEVENT
END:VCALENDAR