BEGIN:VCALENDAR
VERSION:2.0
PRODID:spatie/icalendar-generator
NAME:Eventkalender Monatsübersicht September 2023
X-WR-CALNAME:Eventkalender Monatsübersicht September 2023
BEGIN:VTIMEZONE
TZID:Europe/Zurich
BEGIN:DAYLIGHT
DTSTART:20230326T010000
TZOFFSETFROM:+0100
TZOFFSETTO:+0200
END:DAYLIGHT
BEGIN:STANDARD
DTSTART:20231029T030000
TZOFFSETFROM:+0200
TZOFFSETTO:+0100
END:STANDARD
BEGIN:DAYLIGHT
DTSTART:20240331T010000
TZOFFSETFROM:+0100
TZOFFSETTO:+0200
END:DAYLIGHT
END:VTIMEZONE
BEGIN:VTIMEZONE
TZID:UTC
BEGIN:STANDARD
DTSTART:20250725T045352
TZOFFSETFROM:+0000
TZOFFSETTO:+0000
END:STANDARD
END:VTIMEZONE
BEGIN:VEVENT
UID:b9d487a30398d42ecff55c228ed5652b
DTSTAMP:20260421T045352Z
DTSTART;TZID=Europe/Zurich:20230908T190000
DTEND;TZID=Europe/Zurich:20230910T160000
SUMMARY:P-Weekend
DESCRIPTION:Alle Pfadis mit Jahrgang 2010 oder älter\, die noch kein P-Abz
 eichen besitzen werden zu diesem Wochenende eingeladen. Dabei lernen die P
 fadis Pfaditechnik kennen und vertiefen ihr Wissen diesbezüglich.\nDie An
 meldung bekommen alle betroffenen Personen direkt zugestellt.\nBei Fragen 
 steht die Lagerleitung zur Verfügung: Tbd
STATUS:CONFIRMED
URL:https://pfadi-sa.ch/event/1108
IMAGE;VALUE=URI;FMTTYPE=image/png;DISPLAY=BADGE:https://pfadi-sa.ch/build/a
 ssets/logo-Nx7_9A4W.png
ATTENDEE;CN=Buebepfadi;PARTSTAT=ACCEPTED:MAILTO:Buebepfadi@pfadi-sa.ch
ATTENDEE;CN=Meitlipfadi;PARTSTAT=ACCEPTED:MAILTO:Meitlipfadi@pfadi-sa.ch
ATTENDEE;CN=Stamm Süddakota;PARTSTAT=ACCEPTED:MAILTO:Stamm Süddakota@pfad
 i-sa.ch
ATTENDEE;CN=Stamm Norddakota;PARTSTAT=ACCEPTED:MAILTO:Stamm Norddakota@pfad
 i-sa.ch
ATTENDEE;CN=Fähnli Anakonda;PARTSTAT=ACCEPTED:MAILTO:Fähnli Anakonda@pfad
 i-sa.ch
ATTENDEE;CN=Fähnli Geier;PARTSTAT=ACCEPTED:MAILTO:Fähnli Geier@pfadi-sa.c
 h
ATTENDEE;CN=Fähnli Panther;PARTSTAT=ACCEPTED:MAILTO:Fähnli Panther@pfadi-
 sa.ch
ATTENDEE;CN=Fähnli Adler;PARTSTAT=ACCEPTED:MAILTO:Fähnli Adler@pfadi-sa.c
 h
ATTENDEE;CN=Fähnli Bussard;PARTSTAT=ACCEPTED:MAILTO:Fähnli Bussard@pfadi-
 sa.ch
ATTENDEE;CN=Fähnli Büffel;PARTSTAT=ACCEPTED:MAILTO:Fähnli Büffel@pfadi-
 sa.ch
ATTENDEE;CN=Stamm Turricum;PARTSTAT=ACCEPTED:MAILTO:Stamm Turricum@pfadi-sa
 .ch
ATTENDEE;CN=Stamm Vindonissa;PARTSTAT=ACCEPTED:MAILTO:Stamm Vindonissa@pfad
 i-sa.ch
ATTENDEE;CN=Wolfsstufe Meitli;PARTSTAT=ACCEPTED:MAILTO:Wolfsstufe Meitli@pf
 adi-sa.ch
ATTENDEE;CN=Piostufe Meitli;PARTSTAT=ACCEPTED:MAILTO:Piostufe Meitli@pfadi-
 sa.ch
ATTENDEE;CN=Mettowing;PARTSTAT=ACCEPTED:MAILTO:Mettowing@pfadi-sa.ch
ATTENDEE;CN=Obfilda;PARTSTAT=ACCEPTED:MAILTO:Obfilda@pfadi-sa.ch
ATTENDEE;CN=Chnonowa;PARTSTAT=ACCEPTED:MAILTO:Chnonowa@pfadi-sa.ch
ATTENDEE;CN=Hadung;PARTSTAT=ACCEPTED:MAILTO:Hadung@pfadi-sa.ch
ATTENDEE;CN=Masowanda;PARTSTAT=ACCEPTED:MAILTO:Masowanda@pfadi-sa.ch
END:VEVENT
BEGIN:VEVENT
UID:b59c67bf196a4758191e42f76670ceba
DTSTAMP:20260421T045352Z
DTSTART;TZID=Europe/Zurich:20230916T100000
DTEND;TZID=Europe/Zurich:20230916T235900
SUMMARY:80 Jahr Jubiläum Buebepfadi: Grosse Feier
DESCRIPTION:An diesem Tag feiern wir unser Jubiläum. Der offizielle Festfl
 yer findest du hier. Das Detailprogramm mit allen Programmpunkten kannst 
 du hier entnehmen.FAQ JubiläumsfestKann ich mit dem Auto anreisen?\nJa\, 
 es gibt aber rund um das Pfadiheim KEINE Parkplätze (auch nicht beim Stri
 ckhof). Das Parkieren entlang der der Anfahrtsstrassen ist untersagt. Ein
 - und Ausladen von Personen ist vor dem Pfadiheim möglich. Die Zufahrt is
 t aufgrund des Personenaufkommens erschwert und nicht empfohlen. Bitte wei
 che auf den Parkplatz beim Schützenhaus Zwillikon oder auf andere in der 
 Stadt Afffoltern aus. \nVeloparkplätze sind genügend vorhanden. Wir emp
 fehlen dringend mit ÖV\, Velo oder zu Fuss anzureisen.Kann ich Billette a
 uch noch vor Ort kaufen?Ja\, es gibt eine Tageskasse. Für die Organisator
 en wird die Arbeit erleichtert\, wenn die Billette vorher bezogen werden. 
 Dies ist in den Volg-Filialen Mettmenstetten\, Hedingen und Hausen a.A. m
 öglich. Oder du besuchst das Materialbüro. Besuchende\, die nach 20.00 
 Uhr aufs Festgelände möchten\, bezahlen einen leicht angepassten Abendta
 rif.Was sind die angebotenen Aktivitäten für Kinder und Jugendliche?sieh
 e DetailprogrammWerden die Kinder und Jugendlichen von Pfadi-Leitenden bet
 reut?Nein\, der Besuch des Festgeländes wird auf eigene Verantwortung bzw
 . die der Elternteile getätigt. Versicherung ist Sache der Besuchenden. 
 Der Anlass hat ein eigenes Sicherheitskonzept. Während des Festbetriebs s
 teht ein betreuter Sanitäts-Posten zur Verfügung.Was bietet die Festwirt
 schaft an?Im Angebot sind diverse Getränke mit oder ohne Alkohol. Zudem w
 erden Süssgebäcke\, Snacks sowie warme Gerichte angeboten. Die Speisen u
 nd Getränke werden zu fairen Preisen angeboten. Bezahlt werden kann mit T
 wint\, üblichen Karten oder mit Bargeld.
STATUS:CONFIRMED
URL:https://pfadi-sa.ch/event/1111
IMAGE;VALUE=URI;FMTTYPE=image/png;DISPLAY=BADGE:https://pfadi-sa.ch/build/a
 ssets/logo-Nx7_9A4W.png
ATTENDEE;CN=Buebepfadi;PARTSTAT=ACCEPTED:MAILTO:Buebepfadi@pfadi-sa.ch
ATTENDEE;CN=Meitlipfadi;PARTSTAT=ACCEPTED:MAILTO:Meitlipfadi@pfadi-sa.ch
ATTENDEE;CN=Stamm Süddakota;PARTSTAT=ACCEPTED:MAILTO:Stamm Süddakota@pfad
 i-sa.ch
ATTENDEE;CN=Stamm Norddakota;PARTSTAT=ACCEPTED:MAILTO:Stamm Norddakota@pfad
 i-sa.ch
ATTENDEE;CN=Piostufe Buebe;PARTSTAT=ACCEPTED:MAILTO:Piostufe Buebe@pfadi-sa
 .ch
ATTENDEE;CN=Roverstufe;PARTSTAT=ACCEPTED:MAILTO:Roverstufe@pfadi-sa.ch
ATTENDEE;CN=Fähnli Anakonda;PARTSTAT=ACCEPTED:MAILTO:Fähnli Anakonda@pfad
 i-sa.ch
ATTENDEE;CN=Fähnli Geier;PARTSTAT=ACCEPTED:MAILTO:Fähnli Geier@pfadi-sa.c
 h
ATTENDEE;CN=Fähnli Panther;PARTSTAT=ACCEPTED:MAILTO:Fähnli Panther@pfadi-
 sa.ch
ATTENDEE;CN=Meute Sioni;PARTSTAT=ACCEPTED:MAILTO:Meute Sioni@pfadi-sa.ch
ATTENDEE;CN=Meute Phao;PARTSTAT=ACCEPTED:MAILTO:Meute Phao@pfadi-sa.ch
ATTENDEE;CN=Fähnli Adler;PARTSTAT=ACCEPTED:MAILTO:Fähnli Adler@pfadi-sa.c
 h
ATTENDEE;CN=Fähnli Bussard;PARTSTAT=ACCEPTED:MAILTO:Fähnli Bussard@pfadi-
 sa.ch
ATTENDEE;CN=Fähnli Büffel;PARTSTAT=ACCEPTED:MAILTO:Fähnli Büffel@pfadi-
 sa.ch
ATTENDEE;CN=Meute Chuchundra;PARTSTAT=ACCEPTED:MAILTO:Meute Chuchundra@pfad
 i-sa.ch
ATTENDEE;CN=Meute Akela;PARTSTAT=ACCEPTED:MAILTO:Meute Akela@pfadi-sa.ch
ATTENDEE;CN=Stamm Turricum;PARTSTAT=ACCEPTED:MAILTO:Stamm Turricum@pfadi-sa
 .ch
ATTENDEE;CN=Stamm Vindonissa;PARTSTAT=ACCEPTED:MAILTO:Stamm Vindonissa@pfad
 i-sa.ch
ATTENDEE;CN=Wolfsstufe Meitli;PARTSTAT=ACCEPTED:MAILTO:Wolfsstufe Meitli@pf
 adi-sa.ch
ATTENDEE;CN=Piostufe Meitli;PARTSTAT=ACCEPTED:MAILTO:Piostufe Meitli@pfadi-
 sa.ch
ATTENDEE;CN=Roverstufe;PARTSTAT=ACCEPTED:MAILTO:Roverstufe@pfadi-sa.ch
ATTENDEE;CN=Mettowing;PARTSTAT=ACCEPTED:MAILTO:Mettowing@pfadi-sa.ch
ATTENDEE;CN=Obfilda;PARTSTAT=ACCEPTED:MAILTO:Obfilda@pfadi-sa.ch
ATTENDEE;CN=Chnonowa;PARTSTAT=ACCEPTED:MAILTO:Chnonowa@pfadi-sa.ch
ATTENDEE;CN=Hadung;PARTSTAT=ACCEPTED:MAILTO:Hadung@pfadi-sa.ch
ATTENDEE;CN=Masowanda;PARTSTAT=ACCEPTED:MAILTO:Masowanda@pfadi-sa.ch
ATTENDEE;CN=Tala;PARTSTAT=ACCEPTED:MAILTO:Tala@pfadi-sa.ch
ATTENDEE;CN=Shial;PARTSTAT=ACCEPTED:MAILTO:Shial@pfadi-sa.ch
ATTENDEE;CN=Weowa;PARTSTAT=ACCEPTED:MAILTO:Weowa@pfadi-sa.ch
ATTENDEE;CN=Waya;PARTSTAT=ACCEPTED:MAILTO:Waya@pfadi-sa.ch
ATTENDEE;CN=Talitha;PARTSTAT=ACCEPTED:MAILTO:Talitha@pfadi-sa.ch
ATTENDEE;CN=Lukida;PARTSTAT=ACCEPTED:MAILTO:Lukida@pfadi-sa.ch
ATTENDEE;CN=Dienstpflichtige;PARTSTAT=ACCEPTED:MAILTO:Dienstpflichtige@pfad
 i-sa.ch
ATTENDEE;CN=Meute Toomai;PARTSTAT=ACCEPTED:MAILTO:Meute Toomai@pfadi-sa.ch
END:VEVENT
BEGIN:VEVENT
UID:8b4066554730ddfaa0266346bdc1b202
DTSTAMP:20260421T045352Z
DTSTART;TZID=Europe/Zurich:20230922T200000
DTEND;TZID=Europe/Zurich:20230924T160000
SUMMARY:Fährtenweekend 3-23
DESCRIPTION:Die Leiterinnen und Leiter der Pfadi Säuliamt begeben sich ins
  Pfadiheim Schwandenhölzli\, um das nächste Quartal zu planen\, sich wei
 terzubilden sowie Berichte für die neuste Ausgabe der Fährte zu verfas
 sen. \nWeitere Infos kannst du bei deinem Stafü und/oder AL abholen.\nAn
  diesem Samstag finden bei den Buebe keine Aktivitäten statt.
STATUS:CONFIRMED
URL:https://pfadi-sa.ch/event/1090
IMAGE;VALUE=URI;FMTTYPE=image/png;DISPLAY=BADGE:https://pfadi-sa.ch/build/a
 ssets/logo-Nx7_9A4W.png
ATTENDEE;CN=Buebepfadi;PARTSTAT=ACCEPTED:MAILTO:Buebepfadi@pfadi-sa.ch
ATTENDEE;CN=Meitlipfadi;PARTSTAT=ACCEPTED:MAILTO:Meitlipfadi@pfadi-sa.ch
ATTENDEE;CN=Stamm Süddakota;PARTSTAT=ACCEPTED:MAILTO:Stamm Süddakota@pfad
 i-sa.ch
ATTENDEE;CN=Stamm Norddakota;PARTSTAT=ACCEPTED:MAILTO:Stamm Norddakota@pfad
 i-sa.ch
ATTENDEE;CN=Piostufe Buebe;PARTSTAT=ACCEPTED:MAILTO:Piostufe Buebe@pfadi-sa
 .ch
ATTENDEE;CN=Roverstufe;PARTSTAT=ACCEPTED:MAILTO:Roverstufe@pfadi-sa.ch
ATTENDEE;CN=Fähnli Anakonda;PARTSTAT=ACCEPTED:MAILTO:Fähnli Anakonda@pfad
 i-sa.ch
ATTENDEE;CN=Fähnli Geier;PARTSTAT=ACCEPTED:MAILTO:Fähnli Geier@pfadi-sa.c
 h
ATTENDEE;CN=Fähnli Panther;PARTSTAT=ACCEPTED:MAILTO:Fähnli Panther@pfadi-
 sa.ch
ATTENDEE;CN=Meute Sioni;PARTSTAT=ACCEPTED:MAILTO:Meute Sioni@pfadi-sa.ch
ATTENDEE;CN=Meute Phao;PARTSTAT=ACCEPTED:MAILTO:Meute Phao@pfadi-sa.ch
ATTENDEE;CN=Fähnli Adler;PARTSTAT=ACCEPTED:MAILTO:Fähnli Adler@pfadi-sa.c
 h
ATTENDEE;CN=Fähnli Bussard;PARTSTAT=ACCEPTED:MAILTO:Fähnli Bussard@pfadi-
 sa.ch
ATTENDEE;CN=Fähnli Büffel;PARTSTAT=ACCEPTED:MAILTO:Fähnli Büffel@pfadi-
 sa.ch
ATTENDEE;CN=Meute Chuchundra;PARTSTAT=ACCEPTED:MAILTO:Meute Chuchundra@pfad
 i-sa.ch
ATTENDEE;CN=Meute Akela;PARTSTAT=ACCEPTED:MAILTO:Meute Akela@pfadi-sa.ch
ATTENDEE;CN=Stamm Turricum;PARTSTAT=ACCEPTED:MAILTO:Stamm Turricum@pfadi-sa
 .ch
ATTENDEE;CN=Stamm Vindonissa;PARTSTAT=ACCEPTED:MAILTO:Stamm Vindonissa@pfad
 i-sa.ch
ATTENDEE;CN=Wolfsstufe Meitli;PARTSTAT=ACCEPTED:MAILTO:Wolfsstufe Meitli@pf
 adi-sa.ch
ATTENDEE;CN=Piostufe Meitli;PARTSTAT=ACCEPTED:MAILTO:Piostufe Meitli@pfadi-
 sa.ch
ATTENDEE;CN=Roverstufe;PARTSTAT=ACCEPTED:MAILTO:Roverstufe@pfadi-sa.ch
ATTENDEE;CN=Mettowing;PARTSTAT=ACCEPTED:MAILTO:Mettowing@pfadi-sa.ch
ATTENDEE;CN=Obfilda;PARTSTAT=ACCEPTED:MAILTO:Obfilda@pfadi-sa.ch
ATTENDEE;CN=Chnonowa;PARTSTAT=ACCEPTED:MAILTO:Chnonowa@pfadi-sa.ch
ATTENDEE;CN=Hadung;PARTSTAT=ACCEPTED:MAILTO:Hadung@pfadi-sa.ch
ATTENDEE;CN=Masowanda;PARTSTAT=ACCEPTED:MAILTO:Masowanda@pfadi-sa.ch
ATTENDEE;CN=Tala;PARTSTAT=ACCEPTED:MAILTO:Tala@pfadi-sa.ch
ATTENDEE;CN=Shial;PARTSTAT=ACCEPTED:MAILTO:Shial@pfadi-sa.ch
ATTENDEE;CN=Weowa;PARTSTAT=ACCEPTED:MAILTO:Weowa@pfadi-sa.ch
ATTENDEE;CN=Waya;PARTSTAT=ACCEPTED:MAILTO:Waya@pfadi-sa.ch
ATTENDEE;CN=Talitha;PARTSTAT=ACCEPTED:MAILTO:Talitha@pfadi-sa.ch
ATTENDEE;CN=Lukida;PARTSTAT=ACCEPTED:MAILTO:Lukida@pfadi-sa.ch
ATTENDEE;CN=Dienstpflichtige;PARTSTAT=ACCEPTED:MAILTO:Dienstpflichtige@pfad
 i-sa.ch
ATTENDEE;CN=Meute Toomai;PARTSTAT=ACCEPTED:MAILTO:Meute Toomai@pfadi-sa.ch
END:VEVENT
BEGIN:VEVENT
UID:818f4654ed39a1c147d1e51a00ffb4cb
DTSTAMP:20260421T045352Z
DTSTART;TZID=Europe/Zurich:20230928T200000
DTEND;TZID=Europe/Zurich:20230928T210000
SUMMARY:Elternabend HeLa
DESCRIPTION:An diesem Abend werden wir euch darüber informieren wie das He
 La stattfinden wird. Im Anschluss könnt ihr natürlich eure Fragen an das
  Leitungsteam stellen.
STATUS:CONFIRMED
URL:https://pfadi-sa.ch/event/1082
IMAGE;VALUE=URI;FMTTYPE=image/png;DISPLAY=BADGE:https://pfadi-sa.ch/build/a
 ssets/logo-Nx7_9A4W.png
ATTENDEE;CN=Meute Sioni;PARTSTAT=ACCEPTED:MAILTO:Meute Sioni@pfadi-sa.ch
ATTENDEE;CN=Meute Phao;PARTSTAT=ACCEPTED:MAILTO:Meute Phao@pfadi-sa.ch
ATTENDEE;CN=Meute Chuchundra;PARTSTAT=ACCEPTED:MAILTO:Meute Chuchundra@pfad
 i-sa.ch
ATTENDEE;CN=Meute Akela;PARTSTAT=ACCEPTED:MAILTO:Meute Akela@pfadi-sa.ch
ATTENDEE;CN=Meute Toomai;PARTSTAT=ACCEPTED:MAILTO:Meute Toomai@pfadi-sa.ch
END:VEVENT
BEGIN:VEVENT
UID:2cbca44843a864533ec05b321ae1f9d1
DTSTAMP:20260421T045352Z
DTSTART;TZID=Europe/Zurich:20230930T100000
DTEND;TZID=Europe/Zurich:20230930T170000
SUMMARY:Korpstag Buebe
DESCRIPTION:Am Korpstag treffen wir uns mit den sechs anderen Abteilungen 
 des Korps und bestreiten einen Wettkampf.\nIn dieser Ausgabe werden wir de
 n Heimvorteil geniessen.\nTreffpunkt: Pfadiheim Schwandenhölzli\nZeit: 10
 :00 Uhr - 17:00 UhrFür den Zmittag müssen alle einen Lunch mitnehmen.\n
 Wir werden nach dem Korpstag unsere Jubiläumsshirts verkaufen. Die T-Shir
 ts sind bereits jetzt erhältlich im MaBü. Wenn man das T-Shirt für den
  Korpstag anziehen möchte\, gibt es also hierzu am Montag 25.9.2023 die 
 Möglichkeit.
STATUS:CONFIRMED
URL:https://pfadi-sa.ch/event/1110
IMAGE;VALUE=URI;FMTTYPE=image/png;DISPLAY=BADGE:https://pfadi-sa.ch/build/a
 ssets/logo-Nx7_9A4W.png
ATTENDEE;CN=Buebepfadi;PARTSTAT=ACCEPTED:MAILTO:Buebepfadi@pfadi-sa.ch
ATTENDEE;CN=Stamm Süddakota;PARTSTAT=ACCEPTED:MAILTO:Stamm Süddakota@pfad
 i-sa.ch
ATTENDEE;CN=Stamm Norddakota;PARTSTAT=ACCEPTED:MAILTO:Stamm Norddakota@pfad
 i-sa.ch
ATTENDEE;CN=Piostufe Buebe;PARTSTAT=ACCEPTED:MAILTO:Piostufe Buebe@pfadi-sa
 .ch
ATTENDEE;CN=Roverstufe;PARTSTAT=ACCEPTED:MAILTO:Roverstufe@pfadi-sa.ch
ATTENDEE;CN=Fähnli Anakonda;PARTSTAT=ACCEPTED:MAILTO:Fähnli Anakonda@pfad
 i-sa.ch
ATTENDEE;CN=Fähnli Geier;PARTSTAT=ACCEPTED:MAILTO:Fähnli Geier@pfadi-sa.c
 h
ATTENDEE;CN=Fähnli Panther;PARTSTAT=ACCEPTED:MAILTO:Fähnli Panther@pfadi-
 sa.ch
ATTENDEE;CN=Meute Sioni;PARTSTAT=ACCEPTED:MAILTO:Meute Sioni@pfadi-sa.ch
ATTENDEE;CN=Meute Phao;PARTSTAT=ACCEPTED:MAILTO:Meute Phao@pfadi-sa.ch
ATTENDEE;CN=Fähnli Adler;PARTSTAT=ACCEPTED:MAILTO:Fähnli Adler@pfadi-sa.c
 h
ATTENDEE;CN=Fähnli Bussard;PARTSTAT=ACCEPTED:MAILTO:Fähnli Bussard@pfadi-
 sa.ch
ATTENDEE;CN=Fähnli Büffel;PARTSTAT=ACCEPTED:MAILTO:Fähnli Büffel@pfadi-
 sa.ch
ATTENDEE;CN=Meute Chuchundra;PARTSTAT=ACCEPTED:MAILTO:Meute Chuchundra@pfad
 i-sa.ch
ATTENDEE;CN=Meute Akela;PARTSTAT=ACCEPTED:MAILTO:Meute Akela@pfadi-sa.ch
ATTENDEE;CN=Dienstpflichtige;PARTSTAT=ACCEPTED:MAILTO:Dienstpflichtige@pfad
 i-sa.ch
ATTENDEE;CN=Meute Toomai;PARTSTAT=ACCEPTED:MAILTO:Meute Toomai@pfadi-sa.ch
END:VEVENT
BEGIN:VEVENT
UID:9da187a7a191431db943a9a5a6fec6f4
DTSTAMP:20260421T045352Z
DTSTART;TZID=Europe/Zurich:20230930T133000
DTEND;TZID=Europe/Zurich:20231001T120000
SUMMARY:Biberweekend
DESCRIPTION:Das Jährlich Biberweekend findet wieder statt\, mit dem Brunch
  am Sonntag Morgen mit der Familie.
STATUS:CONFIRMED
URL:https://pfadi-sa.ch/event/1167
IMAGE;VALUE=URI;FMTTYPE=image/png;DISPLAY=BADGE:https://pfadi-sa.ch/build/a
 ssets/logo-Nx7_9A4W.png
END:VEVENT
END:VCALENDAR