BEGIN:VCALENDAR
VERSION:2.0
PRODID:spatie/icalendar-generator
NAME:Eventkalender Monatsübersicht Juli 2024
X-WR-CALNAME:Eventkalender Monatsübersicht Juli 2024
BEGIN:VTIMEZONE
TZID:Europe/Zurich
BEGIN:STANDARD
DTSTART:20231029T030000
TZOFFSETFROM:+0200
TZOFFSETTO:+0100
END:STANDARD
BEGIN:DAYLIGHT
DTSTART:20240331T010000
TZOFFSETFROM:+0100
TZOFFSETTO:+0200
END:DAYLIGHT
BEGIN:STANDARD
DTSTART:20241027T030000
TZOFFSETFROM:+0200
TZOFFSETTO:+0100
END:STANDARD
END:VTIMEZONE
BEGIN:VTIMEZONE
TZID:UTC
BEGIN:STANDARD
DTSTART:20250725T032702
TZOFFSETFROM:+0000
TZOFFSETTO:+0000
END:STANDARD
END:VTIMEZONE
BEGIN:VEVENT
UID:e3251075554389fe91d17a794861d47b
DTSTAMP:20260421T032702Z
DTSTART;TZID=Europe/Zurich:20240706T104500
DTEND;TZID=Europe/Zurich:20240706T150000
SUMMARY:Schnabelburgbummel
DESCRIPTION:Wir laden euch ganz herzlich zu unserem alljährlichenSchnabelb
 urgbummel ein.Weitere Informationen findet ihr im Flyer.Schnabelburgbummel
 _Flyer2024.pdf
STATUS:CONFIRMED
URL:https://pfadi-sa.ch/event/1256
IMAGE;VALUE=URI;FMTTYPE=image/png;DISPLAY=BADGE:https://pfadi-sa.ch/build/a
 ssets/logo-Nx7_9A4W.png
END:VEVENT
BEGIN:VEVENT
UID:4122cb13c7a474c1976c9706ae36521d
DTSTAMP:20260421T032702Z
DTSTART;TZID=Europe/Zurich:20240713T100000
DTEND;TZID=Europe/Zurich:20240726T160000
SUMMARY:Sommerlager Stamm Norddakota
DESCRIPTION:Sommerlager 2024
STATUS:CONFIRMED
URL:https://pfadi-sa.ch/event/1230
IMAGE;VALUE=URI;FMTTYPE=image/png;DISPLAY=BADGE:https://pfadi-sa.ch/build/a
 ssets/logo-Nx7_9A4W.png
ATTENDEE;CN=Fähnli Adler;PARTSTAT=ACCEPTED:MAILTO:Fähnli Adler@pfadi-sa.c
 h
ATTENDEE;CN=Fähnli Bussard;PARTSTAT=ACCEPTED:MAILTO:Fähnli Bussard@pfadi-
 sa.ch
ATTENDEE;CN=Fähnli Büffel;PARTSTAT=ACCEPTED:MAILTO:Fähnli Büffel@pfadi-
 sa.ch
END:VEVENT
BEGIN:VEVENT
UID:dabd8d2ce74e782c65a973ef76fd540b
DTSTAMP:20260421T032702Z
DTSTART;TZID=Europe/Zurich:20240714T090000
DTEND;TZID=Europe/Zurich:20240724T170000
SUMMARY:SoLa Meitlipfadis und -pios
DESCRIPTION:In den ersten beiden Wochen der Sommerferien verbringen die Pfa
 dis und Pios der Meitlipfadi gemeinsam 10 Tage. Weitere Infos sowie die An
 meldungen werden zu einem späteren Zeitpunkt bekanntgegeben. 
STATUS:CONFIRMED
URL:https://pfadi-sa.ch/event/1179
IMAGE;VALUE=URI;FMTTYPE=image/png;DISPLAY=BADGE:https://pfadi-sa.ch/build/a
 ssets/logo-Nx7_9A4W.png
ATTENDEE;CN=Meitlipfadi;PARTSTAT=ACCEPTED:MAILTO:Meitlipfadi@pfadi-sa.ch
ATTENDEE;CN=Stamm Turricum;PARTSTAT=ACCEPTED:MAILTO:Stamm Turricum@pfadi-sa
 .ch
ATTENDEE;CN=Stamm Vindonissa;PARTSTAT=ACCEPTED:MAILTO:Stamm Vindonissa@pfad
 i-sa.ch
ATTENDEE;CN=Piostufe Meitli;PARTSTAT=ACCEPTED:MAILTO:Piostufe Meitli@pfadi-
 sa.ch
ATTENDEE;CN=Mettowing;PARTSTAT=ACCEPTED:MAILTO:Mettowing@pfadi-sa.ch
ATTENDEE;CN=Obfilda;PARTSTAT=ACCEPTED:MAILTO:Obfilda@pfadi-sa.ch
ATTENDEE;CN=Chnonowa;PARTSTAT=ACCEPTED:MAILTO:Chnonowa@pfadi-sa.ch
ATTENDEE;CN=Hadung;PARTSTAT=ACCEPTED:MAILTO:Hadung@pfadi-sa.ch
ATTENDEE;CN=Masowanda;PARTSTAT=ACCEPTED:MAILTO:Masowanda@pfadi-sa.ch
ATTENDEE;CN=Talitha;PARTSTAT=ACCEPTED:MAILTO:Talitha@pfadi-sa.ch
ATTENDEE;CN=Lukida;PARTSTAT=ACCEPTED:MAILTO:Lukida@pfadi-sa.ch
END:VEVENT
BEGIN:VEVENT
UID:fb60d411a5c5b72b2e7d3527cfc84fd0
DTSTAMP:20260421T032702Z
DTSTART;TZID=Europe/Zurich:20240714T093000
DTEND;TZID=Europe/Zurich:20240720T160000
SUMMARY:SoLa Meitliwölf
DESCRIPTION:Für Schneewittchens Hochzeit reisen wir nach Aarburg ins SoLa.
  Detailinfos folgen.
STATUS:CONFIRMED
URL:https://pfadi-sa.ch/event/1276
IMAGE;VALUE=URI;FMTTYPE=image/png;DISPLAY=BADGE:https://pfadi-sa.ch/build/a
 ssets/logo-Nx7_9A4W.png
ATTENDEE;CN=Tala;PARTSTAT=ACCEPTED:MAILTO:Tala@pfadi-sa.ch
ATTENDEE;CN=Shial;PARTSTAT=ACCEPTED:MAILTO:Shial@pfadi-sa.ch
ATTENDEE;CN=Weowa;PARTSTAT=ACCEPTED:MAILTO:Weowa@pfadi-sa.ch
ATTENDEE;CN=Waya;PARTSTAT=ACCEPTED:MAILTO:Waya@pfadi-sa.ch
END:VEVENT
END:VCALENDAR