BEGIN:VCALENDAR
VERSION:2.0
PRODID:spatie/icalendar-generator
NAME:Eventkalender Monatsübersicht Januar 2025
X-WR-CALNAME:Eventkalender Monatsübersicht Januar 2025
BEGIN:VTIMEZONE
TZID:Europe/Zurich
BEGIN:STANDARD
DTSTART:20241027T030000
TZOFFSETFROM:+0200
TZOFFSETTO:+0100
END:STANDARD
BEGIN:DAYLIGHT
DTSTART:20250330T010000
TZOFFSETFROM:+0100
TZOFFSETTO:+0200
END:DAYLIGHT
END:VTIMEZONE
BEGIN:VTIMEZONE
TZID:UTC
BEGIN:STANDARD
DTSTART:20250724T225332
TZOFFSETFROM:+0000
TZOFFSETTO:+0000
END:STANDARD
END:VTIMEZONE
BEGIN:VEVENT
UID:242c100dc94f871b6d7215b868a875f8
DTSTAMP:20260420T225332Z
DTSTART;TZID=Europe/Zurich:20250110T000000
DTEND;TZID=Europe/Zurich:20250112T235900
SUMMARY:Pio Weekend
DESCRIPTION:Weekend der Piogruppen Talitha und Hirsch
STATUS:CONFIRMED
URL:https://pfadi-sa.ch/event/1284
IMAGE;VALUE=URI;FMTTYPE=image/png;DISPLAY=BADGE:https://pfadi-sa.ch/build/a
 ssets/logo-Nx7_9A4W.png
ATTENDEE;CN=Piostufe Buebe;PARTSTAT=ACCEPTED:MAILTO:Piostufe Buebe@pfadi-sa
 .ch
ATTENDEE;CN=Talitha;PARTSTAT=ACCEPTED:MAILTO:Talitha@pfadi-sa.ch
END:VEVENT
BEGIN:VEVENT
UID:535ab76633d94208236a2e829ea6d888
DTSTAMP:20260420T225332Z
DTSTART;TZID=Europe/Zurich:20250117T190000
DTEND;TZID=Europe/Zurich:20250119T120000
SUMMARY:Pfadiweekend Norddakota
DESCRIPTION:Stammweekned Norddakota
STATUS:CONFIRMED
URL:https://pfadi-sa.ch/event/1310
IMAGE;VALUE=URI;FMTTYPE=image/png;DISPLAY=BADGE:https://pfadi-sa.ch/build/a
 ssets/logo-Nx7_9A4W.png
ATTENDEE;CN=Fähnli Adler;PARTSTAT=ACCEPTED:MAILTO:Fähnli Adler@pfadi-sa.c
 h
ATTENDEE;CN=Fähnli Bussard;PARTSTAT=ACCEPTED:MAILTO:Fähnli Bussard@pfadi-
 sa.ch
ATTENDEE;CN=Fähnli Büffel;PARTSTAT=ACCEPTED:MAILTO:Fähnli Büffel@pfadi-
 sa.ch
END:VEVENT
BEGIN:VEVENT
UID:2a50e9c2d6b89b95bcb416d6857f8b45
DTSTAMP:20260420T225332Z
DTSTART;TZID=Europe/Zurich;VALUE=DATE:20250118
DTEND;TZID=Europe/Zurich;VALUE=DATE:20250118
SUMMARY:Stammturnen Süd
STATUS:CONFIRMED
X-MICROSOFT-CDO-ALLDAYEVENT:TRUE
URL:https://pfadi-sa.ch/event/1320
IMAGE;VALUE=URI;FMTTYPE=image/png;DISPLAY=BADGE:https://pfadi-sa.ch/build/a
 ssets/logo-Nx7_9A4W.png
END:VEVENT
BEGIN:VEVENT
UID:4f87658ef0de194413056248a00ce009
DTSTAMP:20260420T225332Z
DTSTART;TZID=Europe/Zurich;VALUE=DATE:20250125
DTEND;TZID=Europe/Zurich;VALUE=DATE:20250125
SUMMARY:Wolfsstufe Schlittschüendle
DESCRIPTION:Wie jedes Jahr zeigen auch dieses Jahr wieder die Meitliwölfe 
 ihre Eislaufkünste. Infos folgen...
STATUS:CONFIRMED
X-MICROSOFT-CDO-ALLDAYEVENT:TRUE
URL:https://pfadi-sa.ch/event/1340
IMAGE;VALUE=URI;FMTTYPE=image/png;DISPLAY=BADGE:https://pfadi-sa.ch/build/a
 ssets/logo-Nx7_9A4W.png
ATTENDEE;CN=Wolfsstufe Meitli;PARTSTAT=ACCEPTED:MAILTO:Wolfsstufe Meitli@pf
 adi-sa.ch
ATTENDEE;CN=Tala;PARTSTAT=ACCEPTED:MAILTO:Tala@pfadi-sa.ch
ATTENDEE;CN=Shial;PARTSTAT=ACCEPTED:MAILTO:Shial@pfadi-sa.ch
ATTENDEE;CN=Weowa;PARTSTAT=ACCEPTED:MAILTO:Weowa@pfadi-sa.ch
ATTENDEE;CN=Waya;PARTSTAT=ACCEPTED:MAILTO:Waya@pfadi-sa.ch
END:VEVENT
BEGIN:VEVENT
UID:05311655a15b75fab86956663e1819cd
DTSTAMP:20260420T225332Z
DTSTART;TZID=Europe/Zurich:20250131T190000
DTEND;TZID=Europe/Zurich:20250202T140000
SUMMARY:Stammweekend Turicum
DESCRIPTION:Der Stamm Turicum und die Pios der Meitlipfadi verbringen ein 
 Wochenende auf Schloss Eulenstein. Anmeldung Turicum Weekend 2025.pdf
STATUS:CONFIRMED
URL:https://pfadi-sa.ch/event/1338
IMAGE;VALUE=URI;FMTTYPE=image/png;DISPLAY=BADGE:https://pfadi-sa.ch/build/a
 ssets/logo-Nx7_9A4W.png
ATTENDEE;CN=Stamm Turricum;PARTSTAT=ACCEPTED:MAILTO:Stamm Turricum@pfadi-sa
 .ch
ATTENDEE;CN=Mettowing;PARTSTAT=ACCEPTED:MAILTO:Mettowing@pfadi-sa.ch
ATTENDEE;CN=Obfilda;PARTSTAT=ACCEPTED:MAILTO:Obfilda@pfadi-sa.ch
ATTENDEE;CN=Talitha;PARTSTAT=ACCEPTED:MAILTO:Talitha@pfadi-sa.ch
END:VEVENT
END:VCALENDAR