BEGIN:VCALENDAR
VERSION:2.0
PRODID:spatie/icalendar-generator
NAME:Eventkalender Monatsübersicht Juli 2025
X-WR-CALNAME:Eventkalender Monatsübersicht Juli 2025
BEGIN:VTIMEZONE
TZID:Europe/Zurich
BEGIN:STANDARD
DTSTART:20241027T030000
TZOFFSETFROM:+0200
TZOFFSETTO:+0100
END:STANDARD
BEGIN:DAYLIGHT
DTSTART:20250330T010000
TZOFFSETFROM:+0100
TZOFFSETTO:+0200
END:DAYLIGHT
BEGIN:STANDARD
DTSTART:20251026T030000
TZOFFSETFROM:+0200
TZOFFSETTO:+0100
END:STANDARD
END:VTIMEZONE
BEGIN:VTIMEZONE
TZID:UTC
BEGIN:STANDARD
DTSTART:20250724T134012
TZOFFSETFROM:+0000
TZOFFSETTO:+0000
END:STANDARD
END:VTIMEZONE
BEGIN:VEVENT
UID:50905d7b2216bfeccb5b41016357176b
DTSTAMP:20260420T134012Z
DTSTART;TZID=Europe/Zurich;VALUE=DATE:20250705
DTEND;TZID=Europe/Zurich;VALUE=DATE:20250705
SUMMARY:Ausbildungstag 2025
DESCRIPTION:Der Ausbildungstag der Pfadistufe steht ganz im Zeichen der Pfa
 ditechnik. An diesem Anlass haben Jungpfadikandidaten die Möglichkeit\, 
 sich das JP- Abzeichen zu verdienen\, während sich die Jung- Pfadis auf 
 die bevorstehenden Ausbildungslager vorbereiten können. Im Anschluss wer
 den wir noch miteinander bräteln. Flyer Ausbildungstag 2025.pdf
STATUS:CONFIRMED
X-MICROSOFT-CDO-ALLDAYEVENT:TRUE
URL:https://pfadi-sa.ch/event/1314
IMAGE;VALUE=URI;FMTTYPE=image/png;DISPLAY=BADGE:https://pfadi-sa.ch/build/a
 ssets/logo-Nx7_9A4W.png
ATTENDEE;CN=Buebepfadi;PARTSTAT=ACCEPTED:MAILTO:Buebepfadi@pfadi-sa.ch
ATTENDEE;CN=Fähnli Anakonda;PARTSTAT=ACCEPTED:MAILTO:Fähnli Anakonda@pfad
 i-sa.ch
ATTENDEE;CN=Fähnli Geier;PARTSTAT=ACCEPTED:MAILTO:Fähnli Geier@pfadi-sa.c
 h
ATTENDEE;CN=Fähnli Panther;PARTSTAT=ACCEPTED:MAILTO:Fähnli Panther@pfadi-
 sa.ch
ATTENDEE;CN=Fähnli Adler;PARTSTAT=ACCEPTED:MAILTO:Fähnli Adler@pfadi-sa.c
 h
ATTENDEE;CN=Fähnli Bussard;PARTSTAT=ACCEPTED:MAILTO:Fähnli Bussard@pfadi-
 sa.ch
ATTENDEE;CN=Fähnli Büffel;PARTSTAT=ACCEPTED:MAILTO:Fähnli Büffel@pfadi-
 sa.ch
END:VEVENT
BEGIN:VEVENT
UID:018b59ce1fd616d874afad0f44ba338d
DTSTAMP:20260420T134012Z
DTSTART;TZID=Europe/Zurich:20250705T104500
DTEND;TZID=Europe/Zurich:20250705T150000
SUMMARY:Schnabelburgbummel
DESCRIPTION:Liebe Wölfe\, Liebe Eltern\,\n  \nLiebe Geschwister\n  \n \n 
  \nWir laden euch ganz herzlich zu unserem alljährlichen Schnabelburgbumm
 el ein. \n  \n \n  \nMit all unseren Wölfen\, den Eltern und Geschwister
  werden wir gemeinsam von der Albispasshöhe zur Schnabelburg wandern. Die
  Strecke ist nicht sehr weit (2.5 Km) aber hat dennoch einige Höhenmeter 
 in sich. Wir werden gemeinsam auf der Schnabelburg grillieren. Nach dem Mi
 ttagessen gehen wir zurück zum Hochwachtturm\, wo wir mit open-end  die 
 Aussicht und den Nachmittag geniessen können. Die Zeit kann genutzt werde
 n\, um mit den Leitern zu plaudern oder mit den Wölfen Pfadispiele zu spi
 elen.\n  \nMitnehmen:\n  \nGutes Schuhwerk\n  Wetterangepasste Kleidung \n
   Würste\, Fleisch oder Gemüse für übers Feuer\n  Trinkflasche\n  Frei
 willig: Salate oder Dessert für Alle\n  \nBitte melden Sie Anzahl Persone
 n und allfällige Salate/Desserts bis am 22. Juni 2025 per Mail an Osiris@
 pfadi-sa.ch an.\n  \nWir hoffen auf ein zahlreiches Erscheinen und auf ein
 en sonnigen und unvergesslichen Tag.\n  \n \n  \nEuses Bescht \n  \nMir W
 ölflileiter
STATUS:CONFIRMED
URL:https://pfadi-sa.ch/event/1283
IMAGE;VALUE=URI;FMTTYPE=image/png;DISPLAY=BADGE:https://pfadi-sa.ch/build/a
 ssets/logo-Nx7_9A4W.png
ATTENDEE;CN=Meute Sioni;PARTSTAT=ACCEPTED:MAILTO:Meute Sioni@pfadi-sa.ch
ATTENDEE;CN=Meute Phao;PARTSTAT=ACCEPTED:MAILTO:Meute Phao@pfadi-sa.ch
ATTENDEE;CN=Meute Chuchundra;PARTSTAT=ACCEPTED:MAILTO:Meute Chuchundra@pfad
 i-sa.ch
ATTENDEE;CN=Meute Akela;PARTSTAT=ACCEPTED:MAILTO:Meute Akela@pfadi-sa.ch
ATTENDEE;CN=Meute Toomai;PARTSTAT=ACCEPTED:MAILTO:Meute Toomai@pfadi-sa.ch
END:VEVENT
BEGIN:VEVENT
UID:c73dfe6c630edb4c1692db67c510f65c
DTSTAMP:20260420T134012Z
DTSTART;TZID=Europe/Zurich:20250712T000000
DTEND;TZID=Europe/Zurich:20250719T000000
SUMMARY:SoLa Meitliwölf
DESCRIPTION:Die Drei !!! brauchen Hilfe bei ihrem neusten Fall. Hast du det
 ektivische Fähigkeiten\, die ihnen weiterhelfen könnten? Dann komm umbe
 dingt mit in das Sommerlager! \nNeben detektivischen Angelegenheiten steh
 en auch das gemeinsame Spielen und Erleben im Vordergrund. Freu dich auf e
 in abwechslungsreiches Programm! \n\nDetailinfos folgen ungefähr 2- 3 Wo
 chen vor dem Lager. Bei Fragen meldest du dich bei Lakritz  oder Schin
 aja. \nAchtung: Bitte beachte\, dass das Lager dieses Jahr ausnahmsweise
  bereits am Samstag beginnt!
STATUS:CONFIRMED
URL:https://pfadi-sa.ch/event/1348
IMAGE;VALUE=URI;FMTTYPE=image/png;DISPLAY=BADGE:https://pfadi-sa.ch/build/a
 ssets/logo-Nx7_9A4W.png
ATTENDEE;CN=Wolfsstufe Meitli;PARTSTAT=ACCEPTED:MAILTO:Wolfsstufe Meitli@pf
 adi-sa.ch
ATTENDEE;CN=Tala;PARTSTAT=ACCEPTED:MAILTO:Tala@pfadi-sa.ch
ATTENDEE;CN=Shial;PARTSTAT=ACCEPTED:MAILTO:Shial@pfadi-sa.ch
ATTENDEE;CN=Weowa;PARTSTAT=ACCEPTED:MAILTO:Weowa@pfadi-sa.ch
ATTENDEE;CN=Waya;PARTSTAT=ACCEPTED:MAILTO:Waya@pfadi-sa.ch
END:VEVENT
BEGIN:VEVENT
UID:c26820b8a4c1b3c2aa868d6d57e14a79
DTSTAMP:20260420T134012Z
DTSTART;TZID=Europe/Zurich:20250713T000000
DTEND;TZID=Europe/Zurich:20250723T000000
SUMMARY:SoLa Pfadi- und Piostufe
DESCRIPTION:Die Pfadi- und Piostufe der Meitlipfadi Säuliamt verbringen ei
 n lässiges SoLa miteinander. 
STATUS:CONFIRMED
URL:https://pfadi-sa.ch/event/1357
IMAGE;VALUE=URI;FMTTYPE=image/png;DISPLAY=BADGE:https://pfadi-sa.ch/build/a
 ssets/logo-Nx7_9A4W.png
ATTENDEE;CN=Stamm Turricum;PARTSTAT=ACCEPTED:MAILTO:Stamm Turricum@pfadi-sa
 .ch
ATTENDEE;CN=Stamm Vindonissa;PARTSTAT=ACCEPTED:MAILTO:Stamm Vindonissa@pfad
 i-sa.ch
ATTENDEE;CN=Mettowing;PARTSTAT=ACCEPTED:MAILTO:Mettowing@pfadi-sa.ch
ATTENDEE;CN=Obfilda;PARTSTAT=ACCEPTED:MAILTO:Obfilda@pfadi-sa.ch
ATTENDEE;CN=Chnonowa;PARTSTAT=ACCEPTED:MAILTO:Chnonowa@pfadi-sa.ch
ATTENDEE;CN=Hadung;PARTSTAT=ACCEPTED:MAILTO:Hadung@pfadi-sa.ch
ATTENDEE;CN=Masowanda;PARTSTAT=ACCEPTED:MAILTO:Masowanda@pfadi-sa.ch
END:VEVENT
BEGIN:VEVENT
UID:d10ec7c16cbe9de8fbb1c42787c3ec26
DTSTAMP:20260420T134012Z
DTSTART;TZID=Europe/Zurich:20250713T090000
DTEND;TZID=Europe/Zurich:20250725T170000
SUMMARY:Abteilungssommerlager Buebe
DESCRIPTION:Abteilugssommerlager Buebepfadi
STATUS:CONFIRMED
URL:https://pfadi-sa.ch/event/1339
IMAGE;VALUE=URI;FMTTYPE=image/png;DISPLAY=BADGE:https://pfadi-sa.ch/build/a
 ssets/logo-Nx7_9A4W.png
ATTENDEE;CN=Buebepfadi;PARTSTAT=ACCEPTED:MAILTO:Buebepfadi@pfadi-sa.ch
ATTENDEE;CN=Stamm Süddakota;PARTSTAT=ACCEPTED:MAILTO:Stamm Süddakota@pfad
 i-sa.ch
ATTENDEE;CN=Stamm Norddakota;PARTSTAT=ACCEPTED:MAILTO:Stamm Norddakota@pfad
 i-sa.ch
ATTENDEE;CN=Piostufe Buebe;PARTSTAT=ACCEPTED:MAILTO:Piostufe Buebe@pfadi-sa
 .ch
ATTENDEE;CN=Roverstufe;PARTSTAT=ACCEPTED:MAILTO:Roverstufe@pfadi-sa.ch
ATTENDEE;CN=Fähnli Anakonda;PARTSTAT=ACCEPTED:MAILTO:Fähnli Anakonda@pfad
 i-sa.ch
ATTENDEE;CN=Fähnli Geier;PARTSTAT=ACCEPTED:MAILTO:Fähnli Geier@pfadi-sa.c
 h
ATTENDEE;CN=Fähnli Panther;PARTSTAT=ACCEPTED:MAILTO:Fähnli Panther@pfadi-
 sa.ch
ATTENDEE;CN=Meute Sioni;PARTSTAT=ACCEPTED:MAILTO:Meute Sioni@pfadi-sa.ch
ATTENDEE;CN=Meute Phao;PARTSTAT=ACCEPTED:MAILTO:Meute Phao@pfadi-sa.ch
ATTENDEE;CN=Fähnli Adler;PARTSTAT=ACCEPTED:MAILTO:Fähnli Adler@pfadi-sa.c
 h
ATTENDEE;CN=Fähnli Bussard;PARTSTAT=ACCEPTED:MAILTO:Fähnli Bussard@pfadi-
 sa.ch
ATTENDEE;CN=Fähnli Büffel;PARTSTAT=ACCEPTED:MAILTO:Fähnli Büffel@pfadi-
 sa.ch
ATTENDEE;CN=Meute Chuchundra;PARTSTAT=ACCEPTED:MAILTO:Meute Chuchundra@pfad
 i-sa.ch
ATTENDEE;CN=Meute Akela;PARTSTAT=ACCEPTED:MAILTO:Meute Akela@pfadi-sa.ch
ATTENDEE;CN=Dienstpflichtige;PARTSTAT=ACCEPTED:MAILTO:Dienstpflichtige@pfad
 i-sa.ch
ATTENDEE;CN=Meute Toomai;PARTSTAT=ACCEPTED:MAILTO:Meute Toomai@pfadi-sa.ch
END:VEVENT
END:VCALENDAR