BEGIN:VCALENDAR
VERSION:2.0
PRODID:spatie/icalendar-generator
NAME:Eventkalender Monatsübersicht September 2025
X-WR-CALNAME:Eventkalender Monatsübersicht September 2025
BEGIN:VTIMEZONE
TZID:Europe/Zurich
BEGIN:DAYLIGHT
DTSTART:20250330T010000
TZOFFSETFROM:+0100
TZOFFSETTO:+0200
END:DAYLIGHT
BEGIN:STANDARD
DTSTART:20251026T030000
TZOFFSETFROM:+0200
TZOFFSETTO:+0100
END:STANDARD
BEGIN:DAYLIGHT
DTSTART:20260329T010000
TZOFFSETFROM:+0100
TZOFFSETTO:+0200
END:DAYLIGHT
END:VTIMEZONE
BEGIN:VTIMEZONE
TZID:UTC
BEGIN:STANDARD
DTSTART:20250724T104309
TZOFFSETFROM:+0000
TZOFFSETTO:+0000
END:STANDARD
END:VTIMEZONE
BEGIN:VEVENT
UID:a9be4c2a4041cadbf9d61ae16dd1389e
DTSTAMP:20260420T104309Z
DTSTART;TZID=Europe/Zurich:20250905T000000
DTEND;TZID=Europe/Zurich:20250907T000000
SUMMARY:P-Weekend
DESCRIPTION:P-Weekend 
STATUS:CONFIRMED
URL:https://pfadi-sa.ch/event/1362
IMAGE;VALUE=URI;FMTTYPE=image/png;DISPLAY=BADGE:https://pfadi-sa.ch/build/a
 ssets/logo-Nx7_9A4W.png
ATTENDEE;CN=Buebepfadi;PARTSTAT=ACCEPTED:MAILTO:Buebepfadi@pfadi-sa.ch
ATTENDEE;CN=Meitlipfadi;PARTSTAT=ACCEPTED:MAILTO:Meitlipfadi@pfadi-sa.ch
END:VEVENT
BEGIN:VEVENT
UID:a0833c8a1817526ac555f8d67727caf6
DTSTAMP:20260420T104309Z
DTSTART;TZID=Europe/Zurich:20250912T200000
DTEND;TZID=Europe/Zurich:20250914T160000
SUMMARY:FWE 3-25
DESCRIPTION:Die Leiterinnen und Leiter der Pfadi Säuliamt begeben sich ins
  Pfadiheim Schwandenhölzli\, um das nächste Quartal zu planen\, sich wei
 terzubilden sowie Berichte für die neuste Ausgabe der Fährte zu verfas
 sen. \nWeitere Infos kannst du bei deinem Stafü und/oder AL abholen.\nAn
  diesem Samstag finden bei den Buebe keine Aktivitäten statt.
STATUS:CONFIRMED
URL:https://pfadi-sa.ch/event/1299
IMAGE;VALUE=URI;FMTTYPE=image/png;DISPLAY=BADGE:https://pfadi-sa.ch/build/a
 ssets/logo-Nx7_9A4W.png
ATTENDEE;CN=Buebepfadi;PARTSTAT=ACCEPTED:MAILTO:Buebepfadi@pfadi-sa.ch
ATTENDEE;CN=Meitlipfadi;PARTSTAT=ACCEPTED:MAILTO:Meitlipfadi@pfadi-sa.ch
ATTENDEE;CN=Biberstufe;PARTSTAT=ACCEPTED:MAILTO:Biberstufe@pfadi-sa.ch
ATTENDEE;CN=Stamm Süddakota;PARTSTAT=ACCEPTED:MAILTO:Stamm Süddakota@pfad
 i-sa.ch
ATTENDEE;CN=Stamm Norddakota;PARTSTAT=ACCEPTED:MAILTO:Stamm Norddakota@pfad
 i-sa.ch
ATTENDEE;CN=Piostufe Buebe;PARTSTAT=ACCEPTED:MAILTO:Piostufe Buebe@pfadi-sa
 .ch
ATTENDEE;CN=Roverstufe;PARTSTAT=ACCEPTED:MAILTO:Roverstufe@pfadi-sa.ch
ATTENDEE;CN=Fähnli Anakonda;PARTSTAT=ACCEPTED:MAILTO:Fähnli Anakonda@pfad
 i-sa.ch
ATTENDEE;CN=Fähnli Geier;PARTSTAT=ACCEPTED:MAILTO:Fähnli Geier@pfadi-sa.c
 h
ATTENDEE;CN=Fähnli Panther;PARTSTAT=ACCEPTED:MAILTO:Fähnli Panther@pfadi-
 sa.ch
ATTENDEE;CN=Meute Sioni;PARTSTAT=ACCEPTED:MAILTO:Meute Sioni@pfadi-sa.ch
ATTENDEE;CN=Meute Phao;PARTSTAT=ACCEPTED:MAILTO:Meute Phao@pfadi-sa.ch
ATTENDEE;CN=Fähnli Adler;PARTSTAT=ACCEPTED:MAILTO:Fähnli Adler@pfadi-sa.c
 h
ATTENDEE;CN=Fähnli Bussard;PARTSTAT=ACCEPTED:MAILTO:Fähnli Bussard@pfadi-
 sa.ch
ATTENDEE;CN=Fähnli Büffel;PARTSTAT=ACCEPTED:MAILTO:Fähnli Büffel@pfadi-
 sa.ch
ATTENDEE;CN=Meute Chuchundra;PARTSTAT=ACCEPTED:MAILTO:Meute Chuchundra@pfad
 i-sa.ch
ATTENDEE;CN=Meute Akela;PARTSTAT=ACCEPTED:MAILTO:Meute Akela@pfadi-sa.ch
ATTENDEE;CN=Stamm Turricum;PARTSTAT=ACCEPTED:MAILTO:Stamm Turricum@pfadi-sa
 .ch
ATTENDEE;CN=Stamm Vindonissa;PARTSTAT=ACCEPTED:MAILTO:Stamm Vindonissa@pfad
 i-sa.ch
ATTENDEE;CN=Wolfsstufe Meitli;PARTSTAT=ACCEPTED:MAILTO:Wolfsstufe Meitli@pf
 adi-sa.ch
ATTENDEE;CN=Piostufe Meitli;PARTSTAT=ACCEPTED:MAILTO:Piostufe Meitli@pfadi-
 sa.ch
ATTENDEE;CN=Roverstufe;PARTSTAT=ACCEPTED:MAILTO:Roverstufe@pfadi-sa.ch
ATTENDEE;CN=Mettowing;PARTSTAT=ACCEPTED:MAILTO:Mettowing@pfadi-sa.ch
ATTENDEE;CN=Obfilda;PARTSTAT=ACCEPTED:MAILTO:Obfilda@pfadi-sa.ch
ATTENDEE;CN=Chnonowa;PARTSTAT=ACCEPTED:MAILTO:Chnonowa@pfadi-sa.ch
ATTENDEE;CN=Hadung;PARTSTAT=ACCEPTED:MAILTO:Hadung@pfadi-sa.ch
ATTENDEE;CN=Masowanda;PARTSTAT=ACCEPTED:MAILTO:Masowanda@pfadi-sa.ch
ATTENDEE;CN=Tala;PARTSTAT=ACCEPTED:MAILTO:Tala@pfadi-sa.ch
ATTENDEE;CN=Shial;PARTSTAT=ACCEPTED:MAILTO:Shial@pfadi-sa.ch
ATTENDEE;CN=Weowa;PARTSTAT=ACCEPTED:MAILTO:Weowa@pfadi-sa.ch
ATTENDEE;CN=Waya;PARTSTAT=ACCEPTED:MAILTO:Waya@pfadi-sa.ch
ATTENDEE;CN=Talitha;PARTSTAT=ACCEPTED:MAILTO:Talitha@pfadi-sa.ch
ATTENDEE;CN=Lukida;PARTSTAT=ACCEPTED:MAILTO:Lukida@pfadi-sa.ch
ATTENDEE;CN=Mauna;PARTSTAT=ACCEPTED:MAILTO:Mauna@pfadi-sa.ch
ATTENDEE;CN=Sori;PARTSTAT=ACCEPTED:MAILTO:Sori@pfadi-sa.ch
ATTENDEE;CN=Dienstpflichtige;PARTSTAT=ACCEPTED:MAILTO:Dienstpflichtige@pfad
 i-sa.ch
ATTENDEE;CN=Meute Toomai;PARTSTAT=ACCEPTED:MAILTO:Meute Toomai@pfadi-sa.ch
END:VEVENT
BEGIN:VEVENT
UID:4476b929e30dd0c4e8bdbcc82c6ba23a
DTSTAMP:20260420T104309Z
DTSTART;TZID=Europe/Zurich:20250920T100000
DTEND;TZID=Europe/Zurich:20250920T150000
SUMMARY:Stammübung
DESCRIPTION:Infos Folgen
STATUS:CONFIRMED
URL:https://pfadi-sa.ch/event/1309
IMAGE;VALUE=URI;FMTTYPE=image/png;DISPLAY=BADGE:https://pfadi-sa.ch/build/a
 ssets/logo-Nx7_9A4W.png
ATTENDEE;CN=Stamm Süddakota;PARTSTAT=ACCEPTED:MAILTO:Stamm Süddakota@pfad
 i-sa.ch
ATTENDEE;CN=Fähnli Anakonda;PARTSTAT=ACCEPTED:MAILTO:Fähnli Anakonda@pfad
 i-sa.ch
ATTENDEE;CN=Fähnli Geier;PARTSTAT=ACCEPTED:MAILTO:Fähnli Geier@pfadi-sa.c
 h
ATTENDEE;CN=Fähnli Panther;PARTSTAT=ACCEPTED:MAILTO:Fähnli Panther@pfadi-
 sa.ch
ATTENDEE;CN=Meute Sioni;PARTSTAT=ACCEPTED:MAILTO:Meute Sioni@pfadi-sa.ch
ATTENDEE;CN=Meute Phao;PARTSTAT=ACCEPTED:MAILTO:Meute Phao@pfadi-sa.ch
END:VEVENT
BEGIN:VEVENT
UID:a223c6b3710f85df22e9377d6c4f7553
DTSTAMP:20260420T104309Z
DTSTART;TZID=Europe/Zurich:20250920T133000
DTEND;TZID=Europe/Zurich:20250921T120000
SUMMARY:Biberweekend
DESCRIPTION:Biberweekend
STATUS:CONFIRMED
URL:https://pfadi-sa.ch/event/1367
IMAGE;VALUE=URI;FMTTYPE=image/png;DISPLAY=BADGE:https://pfadi-sa.ch/build/a
 ssets/logo-Nx7_9A4W.png
ATTENDEE;CN=Biberstufe;PARTSTAT=ACCEPTED:MAILTO:Biberstufe@pfadi-sa.ch
ATTENDEE;CN=Mauna;PARTSTAT=ACCEPTED:MAILTO:Mauna@pfadi-sa.ch
ATTENDEE;CN=Sori;PARTSTAT=ACCEPTED:MAILTO:Sori@pfadi-sa.ch
END:VEVENT
BEGIN:VEVENT
UID:6f3e29a35278d71c7f65495871231324
DTSTAMP:20260420T104309Z
DTSTART;TZID=Europe/Zurich:20250927T080000
DTEND;TZID=Europe/Zurich:20250927T180000
SUMMARY:Korpstag 25 Buebe und Meitlipfadi
DESCRIPTION:Am Korpstag treffen sich die Meitli- und Buebepfadi mit den se
 chs anderen Abteilungen des Korps und bestreiten einen Wettkampf. Dieses 
 Jahr wird zum ersten Mal auch die Meitlipfadi dabei sein\, da auf Ende 202
 5 die neue gemeinsame Region entstehen wird.\n\nTreffpunkt: Pfadiheim Schw
 andenhölzli\nZeit: 08:00 Uhr - 18:00 Uhr\nMitnehmen: Lunch
STATUS:CONFIRMED
URL:https://pfadi-sa.ch/event/1300
IMAGE;VALUE=URI;FMTTYPE=image/png;DISPLAY=BADGE:https://pfadi-sa.ch/build/a
 ssets/logo-Nx7_9A4W.png
ATTENDEE;CN=Buebepfadi;PARTSTAT=ACCEPTED:MAILTO:Buebepfadi@pfadi-sa.ch
ATTENDEE;CN=Meitlipfadi;PARTSTAT=ACCEPTED:MAILTO:Meitlipfadi@pfadi-sa.ch
ATTENDEE;CN=Stamm Süddakota;PARTSTAT=ACCEPTED:MAILTO:Stamm Süddakota@pfad
 i-sa.ch
ATTENDEE;CN=Stamm Norddakota;PARTSTAT=ACCEPTED:MAILTO:Stamm Norddakota@pfad
 i-sa.ch
ATTENDEE;CN=Piostufe Buebe;PARTSTAT=ACCEPTED:MAILTO:Piostufe Buebe@pfadi-sa
 .ch
ATTENDEE;CN=Fähnli Anakonda;PARTSTAT=ACCEPTED:MAILTO:Fähnli Anakonda@pfad
 i-sa.ch
ATTENDEE;CN=Fähnli Geier;PARTSTAT=ACCEPTED:MAILTO:Fähnli Geier@pfadi-sa.c
 h
ATTENDEE;CN=Fähnli Panther;PARTSTAT=ACCEPTED:MAILTO:Fähnli Panther@pfadi-
 sa.ch
ATTENDEE;CN=Meute Sioni;PARTSTAT=ACCEPTED:MAILTO:Meute Sioni@pfadi-sa.ch
ATTENDEE;CN=Meute Phao;PARTSTAT=ACCEPTED:MAILTO:Meute Phao@pfadi-sa.ch
ATTENDEE;CN=Fähnli Adler;PARTSTAT=ACCEPTED:MAILTO:Fähnli Adler@pfadi-sa.c
 h
ATTENDEE;CN=Fähnli Bussard;PARTSTAT=ACCEPTED:MAILTO:Fähnli Bussard@pfadi-
 sa.ch
ATTENDEE;CN=Fähnli Büffel;PARTSTAT=ACCEPTED:MAILTO:Fähnli Büffel@pfadi-
 sa.ch
ATTENDEE;CN=Meute Chuchundra;PARTSTAT=ACCEPTED:MAILTO:Meute Chuchundra@pfad
 i-sa.ch
ATTENDEE;CN=Meute Akela;PARTSTAT=ACCEPTED:MAILTO:Meute Akela@pfadi-sa.ch
ATTENDEE;CN=Stamm Turricum;PARTSTAT=ACCEPTED:MAILTO:Stamm Turricum@pfadi-sa
 .ch
ATTENDEE;CN=Stamm Vindonissa;PARTSTAT=ACCEPTED:MAILTO:Stamm Vindonissa@pfad
 i-sa.ch
ATTENDEE;CN=Wolfsstufe Meitli;PARTSTAT=ACCEPTED:MAILTO:Wolfsstufe Meitli@pf
 adi-sa.ch
ATTENDEE;CN=Piostufe Meitli;PARTSTAT=ACCEPTED:MAILTO:Piostufe Meitli@pfadi-
 sa.ch
ATTENDEE;CN=Mettowing;PARTSTAT=ACCEPTED:MAILTO:Mettowing@pfadi-sa.ch
ATTENDEE;CN=Obfilda;PARTSTAT=ACCEPTED:MAILTO:Obfilda@pfadi-sa.ch
ATTENDEE;CN=Chnonowa;PARTSTAT=ACCEPTED:MAILTO:Chnonowa@pfadi-sa.ch
ATTENDEE;CN=Hadung;PARTSTAT=ACCEPTED:MAILTO:Hadung@pfadi-sa.ch
ATTENDEE;CN=Masowanda;PARTSTAT=ACCEPTED:MAILTO:Masowanda@pfadi-sa.ch
ATTENDEE;CN=Tala;PARTSTAT=ACCEPTED:MAILTO:Tala@pfadi-sa.ch
ATTENDEE;CN=Shial;PARTSTAT=ACCEPTED:MAILTO:Shial@pfadi-sa.ch
ATTENDEE;CN=Weowa;PARTSTAT=ACCEPTED:MAILTO:Weowa@pfadi-sa.ch
ATTENDEE;CN=Waya;PARTSTAT=ACCEPTED:MAILTO:Waya@pfadi-sa.ch
ATTENDEE;CN=Talitha;PARTSTAT=ACCEPTED:MAILTO:Talitha@pfadi-sa.ch
ATTENDEE;CN=Lukida;PARTSTAT=ACCEPTED:MAILTO:Lukida@pfadi-sa.ch
ATTENDEE;CN=Meute Toomai;PARTSTAT=ACCEPTED:MAILTO:Meute Toomai@pfadi-sa.ch
END:VEVENT
END:VCALENDAR