BEGIN:VCALENDAR
VERSION:2.0
PRODID:spatie/icalendar-generator
NAME:Eventkalender Schnabelburgbummel
X-WR-CALNAME:Eventkalender Schnabelburgbummel
BEGIN:VTIMEZONE
TZID:Europe/Zurich
BEGIN:STANDARD
DTSTART:20181028T030000
TZOFFSETFROM:+0200
TZOFFSETTO:+0100
END:STANDARD
BEGIN:DAYLIGHT
DTSTART:20190331T010000
TZOFFSETFROM:+0100
TZOFFSETTO:+0200
END:DAYLIGHT
BEGIN:STANDARD
DTSTART:20191027T030000
TZOFFSETFROM:+0200
TZOFFSETTO:+0100
END:STANDARD
END:VTIMEZONE
BEGIN:VTIMEZONE
TZID:UTC
BEGIN:STANDARD
DTSTART:20250729T015423
TZOFFSETFROM:+0000
TZOFFSETTO:+0000
END:STANDARD
END:VTIMEZONE
BEGIN:VEVENT
UID:addfa9b7e234254d26e9c7f2af1005cb
DTSTAMP:20260425T015423Z
DTSTART;TZID=Europe/Zurich:20190622T110000
DTEND;TZID=Europe/Zurich:20190622T143000
SUMMARY:Schnabelburgbummel
DESCRIPTION:Zusammen mit den Wölfen und ihren Eltern werden wir die Schnab
 elburg auf dem Albis besichtigen und zum Mittagessen bräteln. Der Schnabe
 lburgbummel wird leider aufgrund von schlechtem Wetter abgesagt.
STATUS:CONFIRMED
URL:https://pfadi-sa.ch/event/855
IMAGE;VALUE=URI;FMTTYPE=image/png;DISPLAY=BADGE:https://pfadi-sa.ch/build/a
 ssets/logo-Nx7_9A4W.png
ATTENDEE;CN=Meute Sioni;PARTSTAT=ACCEPTED:MAILTO:Meute Sioni@pfadi-sa.ch
ATTENDEE;CN=Meute Phao;PARTSTAT=ACCEPTED:MAILTO:Meute Phao@pfadi-sa.ch
ATTENDEE;CN=Meute Chuchundra;PARTSTAT=ACCEPTED:MAILTO:Meute Chuchundra@pfad
 i-sa.ch
ATTENDEE;CN=Meute Akela;PARTSTAT=ACCEPTED:MAILTO:Meute Akela@pfadi-sa.ch
END:VEVENT
END:VCALENDAR